BEGIN:VCALENDAR
VERSION:2.0
PRODID:-//Actu.Art - ECPv6.15.13//NONSGML v1.0//EN
CALSCALE:GREGORIAN
METHOD:PUBLISH
X-WR-CALNAME:Actu.Art
X-ORIGINAL-URL:https://actu.art
X-WR-CALDESC:Évènements pour Actu.Art
BEGIN:VTIMEZONE
TZID:Europe/Paris
BEGIN:DAYLIGHT
TZOFFSETFROM:+0100
TZOFFSETTO:+0200
TZNAME:CEST
DTSTART:20250330T010000
END:DAYLIGHT
BEGIN:STANDARD
TZOFFSETFROM:+0200
TZOFFSETTO:+0100
TZNAME:CET
DTSTART:20251026T010000
END:STANDARD
BEGIN:DAYLIGHT
TZOFFSETFROM:+0100
TZOFFSETTO:+0200
TZNAME:CEST
DTSTART:20260329T010000
END:DAYLIGHT
BEGIN:STANDARD
TZOFFSETFROM:+0200
TZOFFSETTO:+0100
TZNAME:CET
DTSTART:20261025T010000
END:STANDARD
BEGIN:DAYLIGHT
TZOFFSETFROM:+0100
TZOFFSETTO:+0200
TZNAME:CEST
DTSTART:20270328T010000
END:DAYLIGHT
BEGIN:STANDARD
TZOFFSETFROM:+0200
TZOFFSETTO:+0100
TZNAME:CET
DTSTART:20271031T010000
END:STANDARD
END:VTIMEZONE
BEGIN:VEVENT
DTSTART;TZID=Europe/Paris:20260303T160000
DTEND;TZID=Europe/Paris:20260425T190000
DTSTAMP:20260425T011641
CREATED:20260309T213155Z
LAST-MODIFIED:20260309T213155Z
UID:140208-1772553600-1777143600@actu.art
SUMMARY:La Curioserie - Valérie Masson
DESCRIPTION:Vous verrez des peintures et dessins de Valérie Masson\, artiste suisse lauréate de la fondation Guignard qui salue et récompense un travail artistique original\, intense et persévérant.
URL:https://actu.art/event/la-curioserie-valerie-masson/
LOCATION:La Curioserie\, Rue Justin Jouve 30\, Dieulefit\, Drôme\, 26220\, France
CATEGORIES:Expositions
ATTACH;FMTTYPE=image/jpeg:https://actu.art/wp-content/uploads/2026/03/La_Curioserie_Valerie_Masson.jpg
GEO:44.5272819;5.0668429
X-APPLE-STRUCTURED-LOCATION;VALUE=URI;X-ADDRESS=La Curioserie Rue Justin Jouve 30 Dieulefit Drôme 26220 France;X-APPLE-RADIUS=500;X-TITLE=Rue Justin Jouve 30:geo:5.0668429,44.5272819
END:VEVENT
END:VCALENDAR