BEGIN:VCALENDAR
VERSION:2.0
PRODID:-//Actu.Art - ECPv6.15.13//NONSGML v1.0//EN
CALSCALE:GREGORIAN
METHOD:PUBLISH
X-WR-CALNAME:Actu.Art
X-ORIGINAL-URL:https://actu.art
X-WR-CALDESC:Évènements pour Actu.Art
BEGIN:VTIMEZONE
TZID:Europe/Paris
BEGIN:DAYLIGHT
TZOFFSETFROM:+0100
TZOFFSETTO:+0200
TZNAME:CEST
DTSTART:20210328T010000
END:DAYLIGHT
BEGIN:STANDARD
TZOFFSETFROM:+0200
TZOFFSETTO:+0100
TZNAME:CET
DTSTART:20211031T010000
END:STANDARD
BEGIN:DAYLIGHT
TZOFFSETFROM:+0100
TZOFFSETTO:+0200
TZNAME:CEST
DTSTART:20220327T010000
END:DAYLIGHT
BEGIN:STANDARD
TZOFFSETFROM:+0200
TZOFFSETTO:+0100
TZNAME:CET
DTSTART:20221030T010000
END:STANDARD
BEGIN:DAYLIGHT
TZOFFSETFROM:+0100
TZOFFSETTO:+0200
TZNAME:CEST
DTSTART:20230326T010000
END:DAYLIGHT
BEGIN:STANDARD
TZOFFSETFROM:+0200
TZOFFSETTO:+0100
TZNAME:CET
DTSTART:20231029T010000
END:STANDARD
END:VTIMEZONE
BEGIN:VEVENT
DTSTART;TZID=Europe/Paris:20220805T110000
DTEND;TZID=Europe/Paris:20220829T200000
DTSTAMP:20260424T084728
CREATED:20220803T114821Z
LAST-MODIFIED:20220826T075202Z
UID:49806-1659697200-1661803200@actu.art
SUMMARY:La Couleur en Fugue
DESCRIPTION:« La Couleur en Fugue » nous entraîne dans un monde où la peinture est totalement libre de créer ses propres formes et d’échapper au cadre limité de la toile. Explorez les diverses variations de couleurs qui s’étendent à l’architecture et aux espaces environnants\, tels que les murs\, le sol et le plafond. L’exposition comprend des œuvres de cinq artistes de renommée internationale\, d’origines et de générations diverses.
URL:https://actu.art/event/la-couleur-en-fugue/
LOCATION:Fondation Louis Vuitton\, 8 avenue du Mahatma Gandhi Bois de Boulogne\, Paris 16e\, Paris\, 75016\, France
CATEGORIES:Notre Sélection
ATTACH;FMTTYPE=image/jpeg:https://actu.art/wp-content/uploads/2022/08/La-Couleur-en-Fugue.jpg
GEO:48.8766484;2.2635254
X-APPLE-STRUCTURED-LOCATION;VALUE=URI;X-ADDRESS=Fondation Louis Vuitton 8 avenue du Mahatma Gandhi Bois de Boulogne Paris 16e Paris 75016 France;X-APPLE-RADIUS=500;X-TITLE=8 avenue du Mahatma Gandhi Bois de Boulogne:geo:2.2635254,48.8766484
END:VEVENT
END:VCALENDAR