BEGIN:VCALENDAR
VERSION:2.0
PRODID:-//Actu.Art - ECPv6.15.13//NONSGML v1.0//EN
CALSCALE:GREGORIAN
METHOD:PUBLISH
X-WR-CALNAME:Actu.Art
X-ORIGINAL-URL:https://actu.art
X-WR-CALDESC:Évènements pour Actu.Art
BEGIN:VTIMEZONE
TZID:Europe/Paris
BEGIN:DAYLIGHT
TZOFFSETFROM:+0100
TZOFFSETTO:+0200
TZNAME:CEST
DTSTART:20200329T010000
END:DAYLIGHT
BEGIN:STANDARD
TZOFFSETFROM:+0200
TZOFFSETTO:+0100
TZNAME:CET
DTSTART:20201025T010000
END:STANDARD
BEGIN:DAYLIGHT
TZOFFSETFROM:+0100
TZOFFSETTO:+0200
TZNAME:CEST
DTSTART:20210328T010000
END:DAYLIGHT
BEGIN:STANDARD
TZOFFSETFROM:+0200
TZOFFSETTO:+0100
TZNAME:CET
DTSTART:20211031T010000
END:STANDARD
BEGIN:DAYLIGHT
TZOFFSETFROM:+0100
TZOFFSETTO:+0200
TZNAME:CEST
DTSTART:20220327T010000
END:DAYLIGHT
BEGIN:STANDARD
TZOFFSETFROM:+0200
TZOFFSETTO:+0100
TZNAME:CET
DTSTART:20221030T010000
END:STANDARD
BEGIN:DAYLIGHT
TZOFFSETFROM:+0100
TZOFFSETTO:+0200
TZNAME:CEST
DTSTART:20230326T010000
END:DAYLIGHT
BEGIN:STANDARD
TZOFFSETFROM:+0200
TZOFFSETTO:+0100
TZNAME:CET
DTSTART:20231029T010000
END:STANDARD
END:VTIMEZONE
BEGIN:VEVENT
DTSTART;TZID=Europe/Paris:20210922T110000
DTEND;TZID=Europe/Paris:20220403T200000
DTSTAMP:20260425T033254
CREATED:20201125T213041Z
LAST-MODIFIED:20220302T215902Z
UID:26678-1632308400-1649016000@actu.art
SUMMARY:La Collection Morozov. Icônes de l'Art Moderne
DESCRIPTION:Le parcours d’exposition\, à découvrir au sein de l’ensemble des galeries de la Fondation\, présente les chefs d’œuvres de l’une des collections les plus célèbres d’art moderne français (Matisse\, Bonnard\, Picasso\, Gauguin\, Van Gogh\, Degas…) et russe (Vroubel\, Chagall\, Malevitch\, Repine\, Larionov\, Serov…). Des œuvres réunies par les frères Mikhaïl Abramovitch Morozov (1870-1903) et Ivan Abramovitch Morozov (1871-1921)\, deux grands mécènes et collectionneurs moscovites du début du XXe siècle.
URL:https://actu.art/event/la-collection-morozov/
LOCATION:Fondation Louis Vuitton\, 8 avenue du Mahatma Gandhi Bois de Boulogne\, Paris 16e\, Paris\, 75016\, France
CATEGORIES:Notre Sélection
ATTACH;FMTTYPE=image/jpeg:https://actu.art/wp-content/uploads/2020/11/La-Collection-Morozov-Fondation-Louis-Vuitton-527x800-1.jpg
GEO:48.8766484;2.2635254
X-APPLE-STRUCTURED-LOCATION;VALUE=URI;X-ADDRESS=Fondation Louis Vuitton 8 avenue du Mahatma Gandhi Bois de Boulogne Paris 16e Paris 75016 France;X-APPLE-RADIUS=500;X-TITLE=8 avenue du Mahatma Gandhi Bois de Boulogne:geo:2.2635254,48.8766484
END:VEVENT
END:VCALENDAR