BEGIN:VCALENDAR
VERSION:2.0
PRODID:-//Actu.Art - ECPv6.15.13//NONSGML v1.0//EN
CALSCALE:GREGORIAN
METHOD:PUBLISH
X-WR-CALNAME:Actu.Art
X-ORIGINAL-URL:https://actu.art
X-WR-CALDESC:Évènements pour Actu.Art
BEGIN:VTIMEZONE
TZID:Europe/Paris
BEGIN:DAYLIGHT
TZOFFSETFROM:+0100
TZOFFSETTO:+0200
TZNAME:CEST
DTSTART:20240331T010000
END:DAYLIGHT
BEGIN:STANDARD
TZOFFSETFROM:+0200
TZOFFSETTO:+0100
TZNAME:CET
DTSTART:20241027T010000
END:STANDARD
BEGIN:DAYLIGHT
TZOFFSETFROM:+0100
TZOFFSETTO:+0200
TZNAME:CEST
DTSTART:20250330T010000
END:DAYLIGHT
BEGIN:STANDARD
TZOFFSETFROM:+0200
TZOFFSETTO:+0100
TZNAME:CET
DTSTART:20251026T010000
END:STANDARD
BEGIN:DAYLIGHT
TZOFFSETFROM:+0100
TZOFFSETTO:+0200
TZNAME:CEST
DTSTART:20260329T010000
END:DAYLIGHT
BEGIN:STANDARD
TZOFFSETFROM:+0200
TZOFFSETTO:+0100
TZNAME:CET
DTSTART:20261025T010000
END:STANDARD
END:VTIMEZONE
BEGIN:VEVENT
DTSTART;VALUE=DATE:20250612
DTEND;VALUE=DATE:20250720
DTSTAMP:20260426T054914
CREATED:20250530T215344Z
LAST-MODIFIED:20250530T215344Z
UID:119138-1749686400-1752969599@actu.art
SUMMARY:Kunstruktion II : François Avril
DESCRIPTION:Dix ans après une première exposition intitulée Kunstruktion\, François Avril poursuit son exploration graphique des transformations urbaines et des villes utopiques. Fidèle à son approche artistique\, il aborde ce second volet à travers une trentaine de dessins et une quinzaine de toiles. Kunstruktion\, néologisme associant Kunst (art) et construction\, devient ici le cadre d’une réflexion artistique où les surfaces\, les lignes et les volumes s’articulent pour créer des compositions urbaines entre épure et réalisme. \nDans les œuvres d’Avril\, les gratte-ciels et les usines sont légion. Les immeubles sont portés au panthéon de l’esthétisme moderne\, où la nature s’invite parfois\, le long des façades ou la mer en toile de fond. La tubulure des usines\, le rythme des bâtiments et la simplicité des formes dictées par leur fonction sont des partis pris esthétiques et visuels défendus depuis toujours par l’artiste. Il joue avec les topographies des lieux qu’il sillonne et de ceux qu’il imagine. Un univers graphique scandé de buildings\, d’échafaudages\, de panneaux et de vitrines. Ses villes\, observées en plongée depuis le haut des tours ou en contre-plongée depuis la rue\, jouent avec l’espace et la perception.
URL:https://actu.art/event/kunstruktion-ii-francois-avril/
LOCATION:Huberty & Breyne Gallery\, 36\, Avenue Matignon\, Paris\, Paris\, 75008\, France
CATEGORIES:Expositions Galeries
ATTACH;FMTTYPE=image/jpeg:https://actu.art/wp-content/uploads/2025/05/Kunstruktion_II_Francois_Avril.jpg
GEO:48.8722821;2.3148066
X-APPLE-STRUCTURED-LOCATION;VALUE=URI;X-ADDRESS=Huberty & Breyne Gallery 36 Avenue Matignon Paris Paris 75008 France;X-APPLE-RADIUS=500;X-TITLE=36\, Avenue Matignon:geo:2.3148066,48.8722821
END:VEVENT
END:VCALENDAR