BEGIN:VCALENDAR
VERSION:2.0
PRODID:-//Actu.Art - ECPv6.15.13//NONSGML v1.0//EN
CALSCALE:GREGORIAN
METHOD:PUBLISH
X-WR-CALNAME:Actu.Art
X-ORIGINAL-URL:https://actu.art
X-WR-CALDESC:Évènements pour Actu.Art
BEGIN:VTIMEZONE
TZID:Europe/Paris
BEGIN:DAYLIGHT
TZOFFSETFROM:+0100
TZOFFSETTO:+0200
TZNAME:CEST
DTSTART:20240331T010000
END:DAYLIGHT
BEGIN:STANDARD
TZOFFSETFROM:+0200
TZOFFSETTO:+0100
TZNAME:CET
DTSTART:20241027T010000
END:STANDARD
BEGIN:DAYLIGHT
TZOFFSETFROM:+0100
TZOFFSETTO:+0200
TZNAME:CEST
DTSTART:20250330T010000
END:DAYLIGHT
BEGIN:STANDARD
TZOFFSETFROM:+0200
TZOFFSETTO:+0100
TZNAME:CET
DTSTART:20251026T010000
END:STANDARD
BEGIN:DAYLIGHT
TZOFFSETFROM:+0100
TZOFFSETTO:+0200
TZNAME:CEST
DTSTART:20260329T010000
END:DAYLIGHT
BEGIN:STANDARD
TZOFFSETFROM:+0200
TZOFFSETTO:+0100
TZNAME:CET
DTSTART:20261025T010000
END:STANDARD
END:VTIMEZONE
BEGIN:VEVENT
DTSTART;TZID=Europe/Paris:20250429T080000
DTEND;TZID=Europe/Paris:20250831T170000
DTSTAMP:20260424T153026
CREATED:20250423T074720Z
LAST-MODIFIED:20250423T074720Z
UID:115500-1745913600-1756659600@actu.art
SUMMARY:Kim En Joong à Chambord : « Couleurs de l’invisible »
DESCRIPTION:Le Domaine national de Chambord accueille pour la première fois un vitrailliste\, Kim En Joong\, figure majeure de cet art multiséculaire\, pour l’exposition Couleurs de l’invisible\, du 29 mars au 31 août. L’artiste est invité en résidence à Chambord pendant six semaines\, afin de produire trois toiles\, dont l’une sera choisie pour l’exposition. Certains des plus beaux vitraux du père Kim\, présentés dans les bras de croix et dans les salles du second étage du château\, entrent en étroite résonance avec l’esprit d’un monument dont l’architecture est\, dans sa conception même\, une ode à la circulation de la lumière. La toile issue de la résidence est exposée aux côtés d’une quarantaine de vitraux\, peintures et céramiques. \nChambord\, un patrimoine vivifié par la création contemporaine \nAprès une trentaine d’artistes\, parmi lesquels Lionel Sabatté\, Wang Keping\, Pablo Reinoso ou Julien des Monstiers\, le Domaine national de Chambord invite entre ses murs l’artiste-vitrailliste Kim En Joong pour une résidence suivie d’une exposition. Laboratoire de création depuis 2011\, Chambord accueille artistes et écrivains en résidence donnant ensuite naissance à des expositions inédites. \nKim En Joong\, en résidence à Chambord \nEn amont de l’exposition\, le père Kim est invité en résidence au château de Chambord à partir du 17 février 2025. \nLors de ses deux visites à Chambord\, le père Kim a perçu la dimension spirituelle du monument avec son plan centré en croix grecque et orienté selon les points cardinaux\, probablement inspiré de la description de la Jérusalem céleste de l’Apocalypse de saint Jean. \nSensible à cette architecture hors norme et à la lumière changeante baignant les grandes salles voûtées du second étage\, l’artiste a souhaité peindre in situ des œuvres monumentales (huile et acrylique de 2\,16 m x 7 m). Ces trois toiles\, dont l’une présentée lors de l’exposition\, seront dédiées à Saint-Louis\, faisant ainsi écho au vocable sous lequel l’église de Chambord est placée. \nL’exposition Couleurs de l’invisible \nDu 29 mars au 31 août\, l’exposition Couleurs de l’invisible rassemble sur près de 900 m2 une quarantaine d’œuvres de Kim En Joong\, dont certaines n’ont jamais été présentées au public : 34 vitraux (soit 56 pièces)\, des céramiques\, un paravent\, un éventail et quatre peintures sur toile. \nL’exposition résulte d’une étroite collaboration entre le Domaine national de Chambord et le Centre international du Vitrail de Chartres où le travail de Kim En Joong était à l’honneur jusqu’en février 2025. Son directeur\, Jean-François Lagier\, est commissaire associé de l’exposition. \nLa lumière joue un rôle fondamental dans l’exposition. Les œuvres installées sous les voûtes à caissons sont disposées à chacune des extrémités des bras de croix de Chambord\, jouant ainsi avec la lumière naturelle qui varie au cours de la journée\, selon l’orientation du soleil. Cet éclairage traversant anime les œuvres et projette sur le sol et les murs des ombres colorées\, transformant chaque espace en un spectacle visuel vivant. \nDans les salles adjacentes\, les vitraux\, les céramiques et les toiles\, dont celle réalisée par l’artiste pendant sa résidence\, sont présentés dans un cadre permettant une approche plus intime de l’œuvre de Kim En Joong.
URL:https://actu.art/event/kim-en-joong-a-chambord-couleurs-de-linvisible/
LOCATION:Château de Chambord\, Chambord\, Loir-et-Cher\, 41250\, France
CATEGORIES:Expositions
ATTACH;FMTTYPE=image/png:https://actu.art/wp-content/uploads/2025/04/Capture-decran-2025-04-22-a-10.25.52.png
GEO:47.614158;1.516878
END:VEVENT
END:VCALENDAR