BEGIN:VCALENDAR
VERSION:2.0
PRODID:-//Actu.Art - ECPv6.15.13//NONSGML v1.0//EN
CALSCALE:GREGORIAN
METHOD:PUBLISH
X-WR-CALNAME:Actu.Art
X-ORIGINAL-URL:https://actu.art
X-WR-CALDESC:Évènements pour Actu.Art
BEGIN:VTIMEZONE
TZID:Europe/Paris
BEGIN:DAYLIGHT
TZOFFSETFROM:+0100
TZOFFSETTO:+0200
TZNAME:CEST
DTSTART:20160327T010000
END:DAYLIGHT
BEGIN:STANDARD
TZOFFSETFROM:+0200
TZOFFSETTO:+0100
TZNAME:CET
DTSTART:20161030T010000
END:STANDARD
BEGIN:DAYLIGHT
TZOFFSETFROM:+0100
TZOFFSETTO:+0200
TZNAME:CEST
DTSTART:20170326T010000
END:DAYLIGHT
BEGIN:STANDARD
TZOFFSETFROM:+0200
TZOFFSETTO:+0100
TZNAME:CET
DTSTART:20171029T010000
END:STANDARD
BEGIN:DAYLIGHT
TZOFFSETFROM:+0100
TZOFFSETTO:+0200
TZNAME:CEST
DTSTART:20180325T010000
END:DAYLIGHT
BEGIN:STANDARD
TZOFFSETFROM:+0200
TZOFFSETTO:+0100
TZNAME:CET
DTSTART:20181028T010000
END:STANDARD
END:VTIMEZONE
BEGIN:VEVENT
DTSTART;VALUE=DATE:20170224
DTEND;VALUE=DATE:20170821
DTSTAMP:20260424T101510
CREATED:20170423T160825Z
LAST-MODIFIED:20210210T190552Z
UID:717-1487894400-1503273599@actu.art
SUMMARY:Karel Appel – L’art est une fête ! MaM Paris
DESCRIPTION:À partir d’une donation exceptionnelle de vingt-et-une peintures et sculptures de la Karel Appel Foundation d’Amsterdam\, le Musée d’Art moderne de la Ville de Paris présente une exposition retraçant l’ensemble de la carrière de l’artiste\, des années CoBrA à sa mort en 2006. \n\nKarel Appel\, artiste néerlandais cosmopolite\, est connu pour avoir été l’un des membres fondateurs du groupe CoBrA\, créé à Paris en 1948 (et dissout en 1951). Ce groupe européen\, composé d’artistes tels que Asger Jorn ou Pierre Alechinsky\, se propose de dépasser les académismes de l’époque\, comme l’art abstrait\, considéré alors comme trop rigide et rationnel. Ces artistes prônent un art spontané et expérimental\, incluant un ensemble de pratiques inspirées du primitivisme. Ils s’intéressent particulièrement aux dessins d’enfants et à l’art des fous avec une ambition internationale\, fidèles aux principes des avant-gardes. \nContemporain de la Compagnie de l’art brut fondée par Jean Dubuffet au même moment\, CoBrA s’inscrit dans ce courant de contre-culture. Il rejette les valeurs établies et propose un nouveau départ\, libéré des conventions et revendiquant la spontanéité du naïf. \n\n 
URL:https://actu.art/event/karel-appel-lart-fete/
LOCATION:Musée d’Art Moderne de la ville de Paris\, 11\, avenue du Président Wilson\, Paris\, Paris\, 75116\, France
CATEGORIES:Notre Sélection
ATTACH;FMTTYPE=image/png:https://actu.art/wp-content/uploads/2017/04/Karel-Appel.png
GEO:48.8643421;2.2978208
X-APPLE-STRUCTURED-LOCATION;VALUE=URI;X-ADDRESS=Musée d’Art Moderne de la ville de Paris 11 avenue du Président Wilson Paris Paris 75116 France;X-APPLE-RADIUS=500;X-TITLE=11\, avenue du Président Wilson:geo:2.2978208,48.8643421
END:VEVENT
END:VCALENDAR