BEGIN:VCALENDAR
VERSION:2.0
PRODID:-//Actu.Art - ECPv6.15.13//NONSGML v1.0//EN
CALSCALE:GREGORIAN
METHOD:PUBLISH
X-WR-CALNAME:Actu.Art
X-ORIGINAL-URL:https://actu.art
X-WR-CALDESC:Évènements pour Actu.Art
BEGIN:VTIMEZONE
TZID:Europe/Paris
BEGIN:DAYLIGHT
TZOFFSETFROM:+0100
TZOFFSETTO:+0200
TZNAME:CEST
DTSTART:20250330T010000
END:DAYLIGHT
BEGIN:STANDARD
TZOFFSETFROM:+0200
TZOFFSETTO:+0100
TZNAME:CET
DTSTART:20251026T010000
END:STANDARD
BEGIN:DAYLIGHT
TZOFFSETFROM:+0100
TZOFFSETTO:+0200
TZNAME:CEST
DTSTART:20260329T010000
END:DAYLIGHT
BEGIN:STANDARD
TZOFFSETFROM:+0200
TZOFFSETTO:+0100
TZNAME:CET
DTSTART:20261025T010000
END:STANDARD
BEGIN:DAYLIGHT
TZOFFSETFROM:+0100
TZOFFSETTO:+0200
TZNAME:CEST
DTSTART:20270328T010000
END:DAYLIGHT
BEGIN:STANDARD
TZOFFSETFROM:+0200
TZOFFSETTO:+0100
TZNAME:CET
DTSTART:20271031T010000
END:STANDARD
END:VTIMEZONE
BEGIN:VEVENT
DTSTART;VALUE=DATE:20260131
DTEND;VALUE=DATE:20260202
DTSTAMP:20260424T070124
CREATED:20260130T114918Z
LAST-MODIFIED:20260130T114918Z
UID:137291-1769817600-1769990399@actu.art
SUMMARY:Journées Portes Ouvertes à la Grange aux Associations de Cormontreuil
DESCRIPTION:La Grange aux associations ouvre ses portes le samedi 31 janvier et le dimanche 1er février 2026.\nLes visiteurs pourront découvrir des oeuvres picturales et des vitraux réalisées par les adhérents des trois associations Aquarelle en Champagne\, Art Pictural en Champagne et Les Sentiers de l’Art.\nCe sera aussi l’occasion d »échanger avec les artistes ainsi que de découvrir différentes techniques artistiques grâce à des démonstrations réalisées dans les ateliers.
URL:https://actu.art/event/journees-portes-ouvertes-a-la-grange-aux-associations-de-cormontreuil/
LOCATION:Grange aux Associations\, 4E Rue Simon Dauphinot\, Cormontreuil\, Marne\, 51350\, France
CATEGORIES:Expositions
GEO:49.225689;4.0474829
X-APPLE-STRUCTURED-LOCATION;VALUE=URI;X-ADDRESS=Grange aux Associations 4E Rue Simon Dauphinot Cormontreuil Marne 51350 France;X-APPLE-RADIUS=500;X-TITLE=4E Rue Simon Dauphinot:geo:4.0474829,49.225689
END:VEVENT
END:VCALENDAR