BEGIN:VCALENDAR
VERSION:2.0
PRODID:-//Actu.Art - ECPv6.15.13//NONSGML v1.0//EN
CALSCALE:GREGORIAN
METHOD:PUBLISH
X-WR-CALNAME:Actu.Art
X-ORIGINAL-URL:https://actu.art
X-WR-CALDESC:Évènements pour Actu.Art
BEGIN:VTIMEZONE
TZID:Europe/Paris
BEGIN:DAYLIGHT
TZOFFSETFROM:+0100
TZOFFSETTO:+0200
TZNAME:CEST
DTSTART:20250330T010000
END:DAYLIGHT
BEGIN:STANDARD
TZOFFSETFROM:+0200
TZOFFSETTO:+0100
TZNAME:CET
DTSTART:20251026T010000
END:STANDARD
BEGIN:DAYLIGHT
TZOFFSETFROM:+0100
TZOFFSETTO:+0200
TZNAME:CEST
DTSTART:20260329T010000
END:DAYLIGHT
BEGIN:STANDARD
TZOFFSETFROM:+0200
TZOFFSETTO:+0100
TZNAME:CET
DTSTART:20261025T010000
END:STANDARD
BEGIN:DAYLIGHT
TZOFFSETFROM:+0100
TZOFFSETTO:+0200
TZNAME:CEST
DTSTART:20270328T010000
END:DAYLIGHT
BEGIN:STANDARD
TZOFFSETFROM:+0200
TZOFFSETTO:+0100
TZNAME:CET
DTSTART:20271031T010000
END:STANDARD
END:VTIMEZONE
BEGIN:VEVENT
DTSTART;VALUE=DATE:20260620
DTEND;VALUE=DATE:20260621
DTSTAMP:20260423T072602
CREATED:20260402T225651Z
LAST-MODIFIED:20260402T225651Z
UID:142146-1781913600-1781999999@actu.art
SUMMARY:JOURNÉE DES PEINTRES
DESCRIPTION:La journée des peintres vous attend le samedi 20 juin à Meyrueis !\nVenez admirer les œuvres des artistes au gré de votre déambulation dans les rues charmantes et animées du village.
URL:https://actu.art/event/journee-des-peintres-4/
LOCATION:Meyrueis\, Meyrueis\, Lozère\, 48150
CATEGORIES:Concours Dessin/Peinture/Sculpture
ATTACH;FMTTYPE=image/jpeg:https://actu.art/wp-content/uploads/2026/04/JOURNEE_DES_PEINTRES.jpg
END:VEVENT
END:VCALENDAR