BEGIN:VCALENDAR
VERSION:2.0
PRODID:-//Actu.Art - ECPv6.15.13//NONSGML v1.0//EN
CALSCALE:GREGORIAN
METHOD:PUBLISH
X-WR-CALNAME:Actu.Art
X-ORIGINAL-URL:https://actu.art
X-WR-CALDESC:Évènements pour Actu.Art
BEGIN:VTIMEZONE
TZID:Europe/Paris
BEGIN:DAYLIGHT
TZOFFSETFROM:+0100
TZOFFSETTO:+0200
TZNAME:CEST
DTSTART:20240331T010000
END:DAYLIGHT
BEGIN:STANDARD
TZOFFSETFROM:+0200
TZOFFSETTO:+0100
TZNAME:CET
DTSTART:20241027T010000
END:STANDARD
BEGIN:DAYLIGHT
TZOFFSETFROM:+0100
TZOFFSETTO:+0200
TZNAME:CEST
DTSTART:20250330T010000
END:DAYLIGHT
BEGIN:STANDARD
TZOFFSETFROM:+0200
TZOFFSETTO:+0100
TZNAME:CET
DTSTART:20251026T010000
END:STANDARD
BEGIN:DAYLIGHT
TZOFFSETFROM:+0100
TZOFFSETTO:+0200
TZNAME:CEST
DTSTART:20260329T010000
END:DAYLIGHT
BEGIN:STANDARD
TZOFFSETFROM:+0200
TZOFFSETTO:+0100
TZNAME:CET
DTSTART:20261025T010000
END:STANDARD
END:VTIMEZONE
BEGIN:VEVENT
DTSTART;TZID=Europe/Paris:20250501T080000
DTEND;TZID=Europe/Paris:20250501T180000
DTSTAMP:20260421T132737
CREATED:20250430T203407Z
LAST-MODIFIED:20250430T203407Z
UID:116513-1746086400-1746122400@actu.art
SUMMARY:Journée des peintres
DESCRIPTION:Cette journée se veut conviviale et ouverte à tous les artistes peintres\, amateurs\, débutants et confirmés\, jeunes et adultes. Comme depuis 2017\, la journée sera étendue aux communes de Cordemais et Lavau-sur-Loire pour les artistes qui le désirent. Ce sera une façon d’élargir l’offre tout en restant dans notre environnement estuarien. Des prix seront décernés par catégorie (confirmés et\namateurs\, œuvres sur toile et sur papier\, jeunes et adultes) et tous les participants seront récompensés. La participation au concours n’est pas obligatoire. Le public sera invité à aller à votre rencontre. Depuis sa création en 1994 l’association des Amis de la Chapelle de Rohars œuvre à la restauration et à la promotion de la chapelle\, dernier vestige témoignant de l’histoire du petit port de Rohars\, village de Bouée.\nProgramme de la journée :\n– Accueil des peintres de 8h à 11h dans la salle polyvalente de Bouée\n(près de la mairie).\n– Inscription gratuite sur place et validation des supports\n– Choix libre du lieu de peinture sur plans\, photos et diaporamas\nde Bouée\, Cordemais et Lavau-sur-Loire\n– Chaque artiste utilise la technique et le support de son choix\n– Les œuvres doivent être réalisées sur site pendant la journée\n– Pique-nique possible à 12h30 dans la salle polyvalente\n– Remise des œuvres jusqu’à 16h30\n– Prévoir un système d’accrochage pour l’exposition IMPERATIF\n– Passage du jury à 17h00 – la participation au concours n’est pas obligatoire\n– A 17h30 remise des prix (bons d’achat\, matériel\, lots)\n– Vente aux enchères des œuvres\n– L’association retiendra un minimum de 15% sur les œuvres vendues\n– Le participant reprendra son œuvre s’il n’y a pas d’acquéreur\n– Verre de l’amitié
URL:https://actu.art/event/journee-des-peintres-2/
LOCATION:Salle polyvalente de Bouée\, 8 route de la Boutonnais\, Bouée\, Loire-Atlantique\, 44260
CATEGORIES:Expositions
ATTACH;FMTTYPE=image/jpeg:https://actu.art/wp-content/uploads/2025/04/Journee_des_peintres-1.jpg
END:VEVENT
END:VCALENDAR