BEGIN:VCALENDAR
VERSION:2.0
PRODID:-//Actu.Art - ECPv6.15.13//NONSGML v1.0//EN
CALSCALE:GREGORIAN
METHOD:PUBLISH
X-WR-CALNAME:Actu.Art
X-ORIGINAL-URL:https://actu.art
X-WR-CALDESC:Évènements pour Actu.Art
BEGIN:VTIMEZONE
TZID:Europe/Paris
BEGIN:DAYLIGHT
TZOFFSETFROM:+0100
TZOFFSETTO:+0200
TZNAME:CEST
DTSTART:20240331T010000
END:DAYLIGHT
BEGIN:STANDARD
TZOFFSETFROM:+0200
TZOFFSETTO:+0100
TZNAME:CET
DTSTART:20241027T010000
END:STANDARD
BEGIN:DAYLIGHT
TZOFFSETFROM:+0100
TZOFFSETTO:+0200
TZNAME:CEST
DTSTART:20250330T010000
END:DAYLIGHT
BEGIN:STANDARD
TZOFFSETFROM:+0200
TZOFFSETTO:+0100
TZNAME:CET
DTSTART:20251026T010000
END:STANDARD
BEGIN:DAYLIGHT
TZOFFSETFROM:+0100
TZOFFSETTO:+0200
TZNAME:CEST
DTSTART:20260329T010000
END:DAYLIGHT
BEGIN:STANDARD
TZOFFSETFROM:+0200
TZOFFSETTO:+0100
TZNAME:CET
DTSTART:20261025T010000
END:STANDARD
END:VTIMEZONE
BEGIN:VEVENT
DTSTART;TZID=Europe/Paris:20250504T100000
DTEND;TZID=Europe/Paris:20250504T170000
DTSTAMP:20260424T121011
CREATED:20250408T220026Z
LAST-MODIFIED:20250416T123640Z
UID:113613-1746352800-1746378000@actu.art
SUMMARY:Journée De l'Art Amateur
DESCRIPTION:Journée de l’Art Amateur à Maubourguet \nUne journée dédiée à l’art et à la créativité ! \nAmateurs de peinture\, sculpture ou dessin\, cette journée est faite pour vous ! Que vous soyez artiste débutant ou confirmé\, originaire de Maubourguet et du Val d’Adour\, profitez de cette occasion unique pour créer et exposer vos œuvres en plein air\, dans une ambiance chaleureuse et conviviale. \nAu programme :\n– Création libre en extérieur : Installez-vous et laissez libre cours à votre imagination en dessinant\, sculptant ou peignant sous le regard bienveillant des visiteurs et des autres artistes.\n– Exposition ouverte à tous : Partagez vos œuvres avec le public et les autres créateurs présents.\n– Échanges et rencontres : Une belle opportunité de discuter\, d’échanger des techniques et de s’inspirer mutuellement. \nPourquoi participer ? \nSortez de votre atelier et osez vous montrer !\nFavorisez les rencontres et le partage entre artistes locaux.\nExposez vos créations dans un cadre agréable et bienveillant. \nRejoignez-nous pour une journée artistique sous le signe de la créativité et de la convivialité à Maubourguet !
URL:https://actu.art/event/journee-de-lart-amateur/
LOCATION:Maubourguet\, Place de la Libération 45\, Maubourguet\, Hautes-Pyrénées\, 65700\, France
CATEGORIES:Expositions
ATTACH;FMTTYPE=image/jpeg:https://actu.art/wp-content/uploads/2025/04/Journee_De_l_Art_Amateur.jpg
GEO:43.4691584;0.0349683
X-APPLE-STRUCTURED-LOCATION;VALUE=URI;X-ADDRESS=Maubourguet Place de la Libération 45 Maubourguet Hautes-Pyrénées 65700 France;X-APPLE-RADIUS=500;X-TITLE=Place de la Libération 45:geo:0.0349683,43.4691584
END:VEVENT
END:VCALENDAR