BEGIN:VCALENDAR
VERSION:2.0
PRODID:-//Actu.Art - ECPv6.15.13//NONSGML v1.0//EN
CALSCALE:GREGORIAN
METHOD:PUBLISH
X-WR-CALNAME:Actu.Art
X-ORIGINAL-URL:https://actu.art
X-WR-CALDESC:Évènements pour Actu.Art
BEGIN:VTIMEZONE
TZID:Europe/Paris
BEGIN:DAYLIGHT
TZOFFSETFROM:+0100
TZOFFSETTO:+0200
TZNAME:CEST
DTSTART:20180325T010000
END:DAYLIGHT
BEGIN:STANDARD
TZOFFSETFROM:+0200
TZOFFSETTO:+0100
TZNAME:CET
DTSTART:20181028T010000
END:STANDARD
BEGIN:DAYLIGHT
TZOFFSETFROM:+0100
TZOFFSETTO:+0200
TZNAME:CEST
DTSTART:20190331T010000
END:DAYLIGHT
BEGIN:STANDARD
TZOFFSETFROM:+0200
TZOFFSETTO:+0100
TZNAME:CET
DTSTART:20191027T010000
END:STANDARD
BEGIN:DAYLIGHT
TZOFFSETFROM:+0100
TZOFFSETTO:+0200
TZNAME:CEST
DTSTART:20200329T010000
END:DAYLIGHT
BEGIN:STANDARD
TZOFFSETFROM:+0200
TZOFFSETTO:+0100
TZNAME:CET
DTSTART:20201025T010000
END:STANDARD
BEGIN:DAYLIGHT
TZOFFSETFROM:+0100
TZOFFSETTO:+0200
TZNAME:CEST
DTSTART:20210328T010000
END:DAYLIGHT
BEGIN:STANDARD
TZOFFSETFROM:+0200
TZOFFSETTO:+0100
TZNAME:CET
DTSTART:20211031T010000
END:STANDARD
END:VTIMEZONE
BEGIN:VEVENT
DTSTART;TZID=Europe/Paris:20191203T093000
DTEND;TZID=Europe/Paris:20200302T180000
DTSTAMP:20260426T043325
CREATED:20190224T173419Z
LAST-MODIFIED:20190224T173437Z
UID:6889-1575365400-1583172000@actu.art
SUMMARY:Joris-Karl Huysmans critique d'art. De Degas à Grünewald
DESCRIPTION:Ecrivain crucial de la fin du XIXe siècle\, Joris-Karl Huysmans (1848-1907) reste un critique d’art mal connu ou mal compris du grand public. Sa contribution à la presse artistique et au débat esthétique fut pourtant aussi décisive que le retentissement de son roman A rebours. \nPlutôt féru de Hals et Rembrandt jusque-là\, Huysmans a avoué combien sa découverte de Degas\, en 1876-1879\, fut déterminante. Pourtant\, sa critique d’art admet d’emblée la possibilité d’une double modernité. Celle des peintres de la vie moderne et celle des explorateurs du rêve ne s’excluent pas. Manet cohabite ici avec Rops et Redon. Le désir qu’il montre très tôt d’échapper aux logiques de chapelle a sans doute brouillé la perception de ses choix esthétiques. \nL’exposition se propose donc de montrer que l’émule précoce de Zola aura secrètement\, puis ouvertement\, agi en héritier du Baudelaire des Fleurs du Mal. Et le public est ainsi invité à reprendre pied dans un moment particulier de l’art européen et de la sensibilité moderne\, à la croisée de la poussée naturaliste des années 1870\, du décadentisme des années 1880-1890 et du « retour » aux Primitifs sur fond de renaissance catholique. Il est peu de grands écrivains qui aient été aussi impliqués 
URL:https://actu.art/event/joris-karl-huysmans-critique-dart-de-degas-a-grunewald/
LOCATION:Musée d’Orsay\, Esplanade Valéry Giscard d'Estaing\, Paris\, Paris\, 75007\, France
CATEGORIES:Notre Sélection
ATTACH;FMTTYPE=image/gif:https://actu.art/wp-content/uploads/2019/02/JL-Forain-JK-Huysmans.gif
GEO:48.8601715;2.326074
X-APPLE-STRUCTURED-LOCATION;VALUE=URI;X-ADDRESS=Musée d’Orsay Esplanade Valéry Giscard d'Estaing Paris Paris 75007 France;X-APPLE-RADIUS=500;X-TITLE=Esplanade Valéry Giscard d'Estaing:geo:2.326074,48.8601715
END:VEVENT
END:VCALENDAR