BEGIN:VCALENDAR
VERSION:2.0
PRODID:-//Actu.Art - ECPv6.15.13//NONSGML v1.0//EN
CALSCALE:GREGORIAN
METHOD:PUBLISH
X-WR-CALNAME:Actu.Art
X-ORIGINAL-URL:https://actu.art
X-WR-CALDESC:Évènements pour Actu.Art
BEGIN:VTIMEZONE
TZID:Europe/Paris
BEGIN:DAYLIGHT
TZOFFSETFROM:+0100
TZOFFSETTO:+0200
TZNAME:CEST
DTSTART:20230326T010000
END:DAYLIGHT
BEGIN:STANDARD
TZOFFSETFROM:+0200
TZOFFSETTO:+0100
TZNAME:CET
DTSTART:20231029T010000
END:STANDARD
BEGIN:DAYLIGHT
TZOFFSETFROM:+0100
TZOFFSETTO:+0200
TZNAME:CEST
DTSTART:20240331T010000
END:DAYLIGHT
BEGIN:STANDARD
TZOFFSETFROM:+0200
TZOFFSETTO:+0100
TZNAME:CET
DTSTART:20241027T010000
END:STANDARD
BEGIN:DAYLIGHT
TZOFFSETFROM:+0100
TZOFFSETTO:+0200
TZNAME:CEST
DTSTART:20250330T010000
END:DAYLIGHT
BEGIN:STANDARD
TZOFFSETFROM:+0200
TZOFFSETTO:+0100
TZNAME:CET
DTSTART:20251026T010000
END:STANDARD
END:VTIMEZONE
BEGIN:VEVENT
DTSTART;TZID=Europe/Paris:20240601T103000
DTEND;TZID=Europe/Paris:20241231T173000
DTSTAMP:20260425T044149
CREATED:20240718T183707Z
LAST-MODIFIED:20240718T201024Z
UID:94067-1717237800-1735666200@actu.art
SUMMARY:Joël Gangloff : Les lacustres
DESCRIPTION:Ce peintre de broussailles\, comme il aime se définir\, s’inspire ici des vestiges présentés dans cette salle autour des variations des niveaux du lac d’Annecy et de son environnement. \nPour ce projet\, Joël Gangloff joue avec l’expérience visuelle du spectateur. Le regard est attrapé par les couleurs et glisse progressivement dans l’exploration du sujet. Les jeux de transparence offerts par la dilution de la matière picturale dévoilent par moment des formes empruntées à l’architecture lacustre\, aux objets archéologiques ou à d’autres présences plus contemporaines. \nInvité par les Musées d’Annecy\, l’artiste a créé un wall drawing (œuvre monumentale sur un mur).
URL:https://actu.art/event/joel-gangloff-les-lacustres/
LOCATION:Musée-château d’Annecy\, Place du château\, Annecy\, Haute-Savoie\, 74000\, France
CATEGORIES:Expositions Temporaires
ATTACH;FMTTYPE=image/webp:https://actu.art/wp-content/uploads/2024/07/Joel_Gangloff_Les_lacustres-1.webp
GEO:45.8970952;6.1247838
X-APPLE-STRUCTURED-LOCATION;VALUE=URI;X-ADDRESS=Musée-château d’Annecy Place du château Annecy Haute-Savoie 74000 France;X-APPLE-RADIUS=500;X-TITLE=Place du château:geo:6.1247838,45.8970952
END:VEVENT
END:VCALENDAR