BEGIN:VCALENDAR
VERSION:2.0
PRODID:-//Actu.Art - ECPv6.15.13//NONSGML v1.0//EN
CALSCALE:GREGORIAN
METHOD:PUBLISH
X-WR-CALNAME:Actu.Art
X-ORIGINAL-URL:https://actu.art
X-WR-CALDESC:Évènements pour Actu.Art
BEGIN:VTIMEZONE
TZID:Europe/Paris
BEGIN:DAYLIGHT
TZOFFSETFROM:+0100
TZOFFSETTO:+0200
TZNAME:CEST
DTSTART:20190331T010000
END:DAYLIGHT
BEGIN:STANDARD
TZOFFSETFROM:+0200
TZOFFSETTO:+0100
TZNAME:CET
DTSTART:20191027T010000
END:STANDARD
BEGIN:DAYLIGHT
TZOFFSETFROM:+0100
TZOFFSETTO:+0200
TZNAME:CEST
DTSTART:20200329T010000
END:DAYLIGHT
BEGIN:STANDARD
TZOFFSETFROM:+0200
TZOFFSETTO:+0100
TZNAME:CET
DTSTART:20201025T010000
END:STANDARD
BEGIN:DAYLIGHT
TZOFFSETFROM:+0100
TZOFFSETTO:+0200
TZNAME:CEST
DTSTART:20210328T010000
END:DAYLIGHT
BEGIN:STANDARD
TZOFFSETFROM:+0200
TZOFFSETTO:+0100
TZNAME:CET
DTSTART:20211031T010000
END:STANDARD
END:VTIMEZONE
BEGIN:VEVENT
DTSTART;TZID=Europe/Paris:20200623T093000
DTEND;TZID=Europe/Paris:20200913T180000
DTSTAMP:20260425T031241
CREATED:20190826T203949Z
LAST-MODIFIED:20200713T211214Z
UID:16186-1592904600-1600020000@actu.art
SUMMARY:James Tissot\, l'ambigu moderne
DESCRIPTION:Né à Nantes\, formé à l’Ecole des Beaux-Arts de Paris et ayant mené carrière des deux côtés de la Manche\, Jacques Joseph Tissot\, est un artiste majeur de la seconde moitié du XIXe siècle\, à la fois ambigu et fascinant. \nS’il est très régulièrement représenté dans les expositions dédiées à cette période\, cette rétrospective est la première qui lui est consacrée à Paris depuis celle organisée au Petit Palais en 1985. \nA la fin des années 1850\, Tissot fait ses premières armes dans la capitale où sa passion pour l’art japonais comme ses relations avec les cercles les plus influents nourrissent sa peinture. Dans le creuset parisien\, à une époque où la modernité théorisée par Baudelaire trouve son expression sous le pinceau de Whisler\, Manet ou Degas\, Tissot et son esprit dandy sont appréciés par la société mondaine.\nAprès la guerre de 1870 et la Commune de Paris\, il s’installe à Londres et poursuit une carrière en vue qui le voit naviguer dans les meilleures sphères.\nPeu à peu\, son oeuvre se concentre sur la figure radieuse puis déclinante de sa compagne Kathleen Newton\, incessamment présente dans ses tableaux. La mort de cette dernière en 1882 scelle le retour en France de Tissot.\nSa carrière se poursuit dans la description des déclinaisons multiples de la Parisienne\, objet d’un grand cycle (La Femme à Paris)\, et les explorations de sujets mystiques et religieux\, avec le cycle du Fils prodigue et les centaines d’illustrations de la Bible\, qui rendront l’artiste immensément célèbre au tournant du XIXe au XXe siècle. \nCentrée sur la figure de James Tissot\, veillant à ancrer l’art de ce peintre dans le contexte artistique et social de son temps\, cette exposition présente les grandes réussites d’un artiste aux images souvent iconiques\, et ses recherches les plus audacieuses.\nElle explore également la fabrique de son oeuvre : les thèmes qui lui sont chers et leurs variations\, mais également sa volonté de s’exprimer dans des techniques variées\, telles que l’estampe\, la photographie ou l’émail cloisonné\, en sus de la peinture.
URL:https://actu.art/event/james-tissot/
LOCATION:Musée d’Orsay\, Esplanade Valéry Giscard d'Estaing\, Paris\, Paris\, 75007\, France
CATEGORIES:Notre Sélection
ATTACH;FMTTYPE=image/gif:https://actu.art/wp-content/uploads/2019/08/James-Tissot.gif
GEO:48.8601715;2.326074
X-APPLE-STRUCTURED-LOCATION;VALUE=URI;X-ADDRESS=Musée d’Orsay Esplanade Valéry Giscard d'Estaing Paris Paris 75007 France;X-APPLE-RADIUS=500;X-TITLE=Esplanade Valéry Giscard d'Estaing:geo:2.326074,48.8601715
END:VEVENT
END:VCALENDAR