BEGIN:VCALENDAR
VERSION:2.0
PRODID:-//Actu.Art - ECPv6.15.13//NONSGML v1.0//EN
CALSCALE:GREGORIAN
METHOD:PUBLISH
X-WR-CALNAME:Actu.Art
X-ORIGINAL-URL:https://actu.art
X-WR-CALDESC:Évènements pour Actu.Art
BEGIN:VTIMEZONE
TZID:Europe/Paris
BEGIN:DAYLIGHT
TZOFFSETFROM:+0100
TZOFFSETTO:+0200
TZNAME:CEST
DTSTART:20220327T010000
END:DAYLIGHT
BEGIN:STANDARD
TZOFFSETFROM:+0200
TZOFFSETTO:+0100
TZNAME:CET
DTSTART:20221030T010000
END:STANDARD
BEGIN:DAYLIGHT
TZOFFSETFROM:+0100
TZOFFSETTO:+0200
TZNAME:CEST
DTSTART:20230326T010000
END:DAYLIGHT
BEGIN:STANDARD
TZOFFSETFROM:+0200
TZOFFSETTO:+0100
TZNAME:CET
DTSTART:20231029T010000
END:STANDARD
BEGIN:DAYLIGHT
TZOFFSETFROM:+0100
TZOFFSETTO:+0200
TZNAME:CEST
DTSTART:20240331T010000
END:DAYLIGHT
BEGIN:STANDARD
TZOFFSETFROM:+0200
TZOFFSETTO:+0100
TZNAME:CET
DTSTART:20241027T010000
END:STANDARD
END:VTIMEZONE
BEGIN:VEVENT
DTSTART;TZID=Europe/Paris:20230617T120000
DTEND;TZID=Europe/Paris:20230917T180000
DTSTAMP:20260423T032830
CREATED:20230616T215504Z
LAST-MODIFIED:20230616T220208Z
UID:66452-1687003200-1694973600@actu.art
SUMMARY:Jacobus Vrel\, énigmatique précurseur de Vermeer
DESCRIPTION:L’exposition se propose de revenir sur la figure de ce peintre du XVIIe siècle hollandais. Nombre des tableaux de Jacobus Vrel et du célèbre Johannes Vermeer partagent un même calme contemplatif\, le rôle central joué par des figures féminines et\, bien souvent\, un certain mystère. Ainsi\, beaucoup d’œuvres de Jacobus Vrel furent longtemps attribuées à Vermeer. Inconnues du grand public\, elles intriguent et fascinent les historiens d’art depuis plus d’un siècle. \nImmersion dans le Siècle d’or hollandais afin de mettre en relief l’originalité de Vrel : un choix de tableaux\, de dessins et de gravures sera complété par des prêts de la Alte Pinakothek de Munich\, du Mauritshuis\, du Rijksmuseum et d’autres musées néerlandais. Après une étape initiale au Mauritshuis – Cabinet royal de peintures à La Haye\, la Fondation Custodia accueille l’exposition avec le seul dessin connu à ce jour de l’artiste et 22 de ses tableaux\, soit près de la moitié de la production connue de l’artiste.
URL:https://actu.art/event/jacobus-vrel-enigmatique-precurseur-de-vermeer/
LOCATION:Fondation Custodia\, 121 Rue de Lille\, Paris\, Paris\, 75007\, France
CATEGORIES:Notre Sélection
ATTACH;FMTTYPE=image/webp:https://actu.art/wp-content/uploads/2023/06/Jacobus-Vrel-precurseur-de-Vermeer.webp
GEO:48.8613086;2.3197055
X-APPLE-STRUCTURED-LOCATION;VALUE=URI;X-ADDRESS=Fondation Custodia 121 Rue de Lille Paris Paris 75007 France;X-APPLE-RADIUS=500;X-TITLE=121 Rue de Lille:geo:2.3197055,48.8613086
END:VEVENT
END:VCALENDAR