BEGIN:VCALENDAR
VERSION:2.0
PRODID:-//Actu.Art - ECPv6.15.13//NONSGML v1.0//EN
CALSCALE:GREGORIAN
METHOD:PUBLISH
X-WR-CALNAME:Actu.Art
X-ORIGINAL-URL:https://actu.art
X-WR-CALDESC:Évènements pour Actu.Art
BEGIN:VTIMEZONE
TZID:Europe/Paris
BEGIN:DAYLIGHT
TZOFFSETFROM:+0100
TZOFFSETTO:+0200
TZNAME:CEST
DTSTART:20240331T010000
END:DAYLIGHT
BEGIN:STANDARD
TZOFFSETFROM:+0200
TZOFFSETTO:+0100
TZNAME:CET
DTSTART:20241027T010000
END:STANDARD
BEGIN:DAYLIGHT
TZOFFSETFROM:+0100
TZOFFSETTO:+0200
TZNAME:CEST
DTSTART:20250330T010000
END:DAYLIGHT
BEGIN:STANDARD
TZOFFSETFROM:+0200
TZOFFSETTO:+0100
TZNAME:CET
DTSTART:20251026T010000
END:STANDARD
BEGIN:DAYLIGHT
TZOFFSETFROM:+0100
TZOFFSETTO:+0200
TZNAME:CEST
DTSTART:20260329T010000
END:DAYLIGHT
BEGIN:STANDARD
TZOFFSETFROM:+0200
TZOFFSETTO:+0100
TZNAME:CET
DTSTART:20261025T010000
END:STANDARD
END:VTIMEZONE
BEGIN:VEVENT
DTSTART;TZID=Europe/Paris:20250606T110000
DTEND;TZID=Europe/Paris:20250616T180000
DTSTAMP:20260421T043249
CREATED:20250616T184045Z
LAST-MODIFIED:20250616T184045Z
UID:121142-1749207600-1750096800@actu.art
SUMMARY:Invitation à l'Exposition "Éloge à la Création"
DESCRIPTION:Découvrez « Éloge à la Création »\, une exposition inspirante. Admirez les œuvres de Pierre Ohniguian (Raku)\, Jean Pierre Mabille (Photos)\, Brian Robert Berkhout (Bijoux)\, et les peintures de Géry Boileau\, M.G. Genovese\, M.T. Marinier\, Eliane SOA.
URL:https://actu.art/event/invitation-a-lexposition-eloge-a-la-creation/
LOCATION:Galerie Arthouse\, 10 grande rue\, Chantelle\, Allier\, 03140\, France
CATEGORIES:Expositions Galeries
ATTACH;FMTTYPE=image/jpeg:https://actu.art/wp-content/uploads/2025/06/Invitation_a_l_Exposition_Eloge_a_la_Creation_.jpg
GEO:46.2181005;3.1231714
X-APPLE-STRUCTURED-LOCATION;VALUE=URI;X-ADDRESS=Galerie Arthouse 10 grande rue Chantelle Allier 03140 France;X-APPLE-RADIUS=500;X-TITLE=10 grande rue:geo:3.1231714,46.2181005
END:VEVENT
END:VCALENDAR