BEGIN:VCALENDAR
VERSION:2.0
PRODID:-//Actu.Art - ECPv6.15.13//NONSGML v1.0//EN
CALSCALE:GREGORIAN
METHOD:PUBLISH
X-WR-CALNAME:Actu.Art
X-ORIGINAL-URL:https://actu.art
X-WR-CALDESC:Évènements pour Actu.Art
BEGIN:VTIMEZONE
TZID:Europe/Paris
BEGIN:DAYLIGHT
TZOFFSETFROM:+0100
TZOFFSETTO:+0200
TZNAME:CEST
DTSTART:20240331T010000
END:DAYLIGHT
BEGIN:STANDARD
TZOFFSETFROM:+0200
TZOFFSETTO:+0100
TZNAME:CET
DTSTART:20241027T010000
END:STANDARD
BEGIN:DAYLIGHT
TZOFFSETFROM:+0100
TZOFFSETTO:+0200
TZNAME:CEST
DTSTART:20250330T010000
END:DAYLIGHT
BEGIN:STANDARD
TZOFFSETFROM:+0200
TZOFFSETTO:+0100
TZNAME:CET
DTSTART:20251026T010000
END:STANDARD
BEGIN:DAYLIGHT
TZOFFSETFROM:+0100
TZOFFSETTO:+0200
TZNAME:CEST
DTSTART:20260329T010000
END:DAYLIGHT
BEGIN:STANDARD
TZOFFSETFROM:+0200
TZOFFSETTO:+0100
TZNAME:CET
DTSTART:20261025T010000
END:STANDARD
END:VTIMEZONE
BEGIN:VEVENT
DTSTART;TZID=Europe/Paris:20250605T180000
DTEND;TZID=Europe/Paris:20250611T140000
DTSTAMP:20260420T183733
CREATED:20250426T185212Z
LAST-MODIFIED:20250426T185212Z
UID:115980-1749146400-1749650400@actu.art
SUMMARY:Intimacy Issues
DESCRIPTION:L’association MINERVA\, engagée dans la promotion des artistes femmes dans les arts\nplastiques contemporains\, présente Intimacy Issues\, première exposition en Europe de\nl’artiste Miranda Pranoto.\nOriginaire d’Indonésie\, où les tabous autour du corps et de la sexualité demeurent prégnants\, Miranda développe une œuvre ancrée dans l’intime\, à la fois autobiographique et politique.\nÀ travers une sélection de peintures oscillant entre abstraction et figuration\, l’artiste interroge la représentation du corps féminin à partir de son propre vécu. Sa pratique\, qui mêle figuration minutieuse et gestes libres\, donne forme à une parole singulière où l’expérience personnelle devient le point de départ d’une réflexion collective sur les normes sociales\, les rapports du pouvoir et la réappropriation de soi.\nL’exposition engage une réflexion sur les formes de résistance corporelle face aux injonctions sociales et aux mécanismes de censure\, tout en soulignant le potentiel thérapeutique de l’art dans les processus de reconstruction identitaire. Le spectateur est invité à pénétrer\ndans une intimité sans fard\, où l’autoreprésentation devient un outil de reconstruction. \nPremière exposition organisée par MINERVA\, ce projet inaugure l’engagement de l’association : soutenir les artistes femmes engagées et donner à voir des récits puissants qui interrogent les représentations dominantes du féminin dans l’art et dans nos sociétés.
URL:https://actu.art/event/intimacy-issues/
LOCATION:Galerie La Petite Semaine\, 25 rue Chanzy\, Paris\, 75011
CATEGORIES:Expositions Galeries
ATTACH;FMTTYPE=image/jpeg:https://actu.art/wp-content/uploads/2025/04/Affiche-scaled.jpg
GEO:48.8528539;2.3852695
X-APPLE-STRUCTURED-LOCATION;VALUE=URI;X-ADDRESS=Galerie La Petite Semaine 25 rue Chanzy Paris 75011;X-APPLE-RADIUS=500;X-TITLE=25 rue Chanzy:geo:2.3852695,48.8528539
END:VEVENT
END:VCALENDAR