BEGIN:VCALENDAR
VERSION:2.0
PRODID:-//Actu.Art - ECPv6.15.13//NONSGML v1.0//EN
CALSCALE:GREGORIAN
METHOD:PUBLISH
X-WR-CALNAME:Actu.Art
X-ORIGINAL-URL:https://actu.art
X-WR-CALDESC:Évènements pour Actu.Art
BEGIN:VTIMEZONE
TZID:Europe/Paris
BEGIN:DAYLIGHT
TZOFFSETFROM:+0100
TZOFFSETTO:+0200
TZNAME:CEST
DTSTART:20240331T010000
END:DAYLIGHT
BEGIN:STANDARD
TZOFFSETFROM:+0200
TZOFFSETTO:+0100
TZNAME:CET
DTSTART:20241027T010000
END:STANDARD
BEGIN:DAYLIGHT
TZOFFSETFROM:+0100
TZOFFSETTO:+0200
TZNAME:CEST
DTSTART:20250330T010000
END:DAYLIGHT
BEGIN:STANDARD
TZOFFSETFROM:+0200
TZOFFSETTO:+0100
TZNAME:CET
DTSTART:20251026T010000
END:STANDARD
BEGIN:DAYLIGHT
TZOFFSETFROM:+0100
TZOFFSETTO:+0200
TZNAME:CEST
DTSTART:20260329T010000
END:DAYLIGHT
BEGIN:STANDARD
TZOFFSETFROM:+0200
TZOFFSETTO:+0100
TZNAME:CET
DTSTART:20261025T010000
END:STANDARD
END:VTIMEZONE
BEGIN:VEVENT
DTSTART;TZID=Europe/Paris:20250501T180000
DTEND;TZID=Europe/Paris:20250501T210000
DTSTAMP:20260421T015131
CREATED:20250430T191457Z
LAST-MODIFIED:20250430T191457Z
UID:116407-1746122400-1746133200@actu.art
SUMMARY:Images de nature - Vernissage de l'exposition peintures et photos
DESCRIPTION:Petite balade\, exposition peintures et photos\, suivie d’un grand apéritif autour du feu. 80 places – Inscription obligatoire avant le 30 avril.
URL:https://actu.art/event/images-de-nature-vernissage-de-lexposition-peintures-et-photos/
LOCATION:Maison de la Nature du Sundgau\, 13 rue Sainte Barbe\, Altenach\, Haut-Rhin\, 68210
CATEGORIES:Expositions
ATTACH;FMTTYPE=image/jpeg:https://actu.art/wp-content/uploads/2025/04/Images_de_nature_Vernissage_de_l_exposition_peintures_et_photos.jpg
END:VEVENT
END:VCALENDAR