BEGIN:VCALENDAR
VERSION:2.0
PRODID:-//Actu.Art - ECPv6.15.13//NONSGML v1.0//EN
CALSCALE:GREGORIAN
METHOD:PUBLISH
X-WR-CALNAME:Actu.Art
X-ORIGINAL-URL:https://actu.art
X-WR-CALDESC:Évènements pour Actu.Art
BEGIN:VTIMEZONE
TZID:Europe/Paris
BEGIN:DAYLIGHT
TZOFFSETFROM:+0100
TZOFFSETTO:+0200
TZNAME:CEST
DTSTART:20240331T010000
END:DAYLIGHT
BEGIN:STANDARD
TZOFFSETFROM:+0200
TZOFFSETTO:+0100
TZNAME:CET
DTSTART:20241027T010000
END:STANDARD
BEGIN:DAYLIGHT
TZOFFSETFROM:+0100
TZOFFSETTO:+0200
TZNAME:CEST
DTSTART:20250330T010000
END:DAYLIGHT
BEGIN:STANDARD
TZOFFSETFROM:+0200
TZOFFSETTO:+0100
TZNAME:CET
DTSTART:20251026T010000
END:STANDARD
BEGIN:DAYLIGHT
TZOFFSETFROM:+0100
TZOFFSETTO:+0200
TZNAME:CEST
DTSTART:20260329T010000
END:DAYLIGHT
BEGIN:STANDARD
TZOFFSETFROM:+0200
TZOFFSETTO:+0100
TZNAME:CET
DTSTART:20261025T010000
END:STANDARD
END:VTIMEZONE
BEGIN:VEVENT
DTSTART;TZID=Europe/Paris:20250515T110000
DTEND;TZID=Europe/Paris:20250621T190000
DTSTAMP:20260426T001209
CREATED:20250501T203147Z
LAST-MODIFIED:20250501T203147Z
UID:116010-1747306800-1750532400@actu.art
SUMMARY:IDEM - CLAUDE VIALLAT
DESCRIPTION:Les œuvres récentes de Claude Viallat confirment une continuité de fabrication qui\, depuis 1966\, a construit sa propre tradition en aﬃrmant et aﬃnant\, pour ceux qui y ont prêté ou y prêtent attention\, des « qualités » caractéristiques de ce que l’on peut appeler une « esthétique ». Elle s’énonce\, d’une certaine manière\, par la répétition d’une forme\, chaque fois unique et chaque fois semblable à toutes les autres\, soit sur un support de toile non tendue sur châssis soit sur plusieurs supports de toiles raboutés. (…) Depuis quelques années\, substituées à ce type de support\, il assemble de vastes surfaces oblongues de tissus raboutés de telle façon qu’un vide découpe\, intégré à l’œuvre\, un espace sur le mur d’accrochage. À voir ces œuvres\, on les imagine ébauchant une sorte de dialogue avec certaines de celles de Frank Stella. \nIl est vrai que la planéité n’est pas sa principale préoccupation : il tient aux plis de ses toiles – dans certains musées vigoureusement repassées et à toutes les saillies des coutures\, des sutures réparatrices et des attifiaux qui marquent leur surface. \nCe relief stiacciato ramène la peinture dans la proximité de la sculpture et la reconduit au statut d’un objet saillant du mur dans l’espace réel. L’exigence pariétale de Claude Viallat\, surtout dans les raboutages\, nous incite à ne pas négliger ce rapport au mur et donc à la tapisserie\, à son tissage artisanal\, magnifiée durant les années de formation de Claude Viallat. \nCes réemplois détournent les fonctionnalités premières. Voire ils les inversent\, un peu comme le fait le renversement de la Roue de bicyclette ? Sont-ils des sortes de readymades ? Des dérivations des collages et des assemblages ? Des suites déroutant les décisions des nouveaux réalistes ? Peut-être ? Mais diﬀéremment et plus\, voire mieux\, que dans les readymades\, collages et assemblages\, tels que ceux-ci en jouent\, c’est un feuilleté\, un tressage\, des nœuds de vécus\, d’histoires qui s’entremêlent\, s’enchevêtrent que Claude Viallat concocte.
URL:https://actu.art/event/idem-claude-viallat/
LOCATION:Galerie Ceysson & Bénétière – Luxembourg\, Rue d'Arlon 13-15\, Koerich\, 8399\, Luxembourg
CATEGORIES:Expositions Galeries
ATTACH;FMTTYPE=image/jpeg:https://actu.art/wp-content/uploads/2025/04/Viallat-2020-2020pp047-35287.jpg
GEO:49.6473135;5.9539681
X-APPLE-STRUCTURED-LOCATION;VALUE=URI;X-ADDRESS=Galerie Ceysson & Bénétière – Luxembourg Rue d'Arlon 13-15 Koerich 8399 Luxembourg;X-APPLE-RADIUS=500;X-TITLE=Rue d'Arlon 13-15:geo:5.9539681,49.6473135
END:VEVENT
END:VCALENDAR