BEGIN:VCALENDAR
VERSION:2.0
PRODID:-//Actu.Art - ECPv6.15.13//NONSGML v1.0//EN
CALSCALE:GREGORIAN
METHOD:PUBLISH
X-WR-CALNAME:Actu.Art
X-ORIGINAL-URL:https://actu.art
X-WR-CALDESC:Évènements pour Actu.Art
BEGIN:VTIMEZONE
TZID:Europe/Paris
BEGIN:DAYLIGHT
TZOFFSETFROM:+0100
TZOFFSETTO:+0200
TZNAME:CEST
DTSTART:20180325T010000
END:DAYLIGHT
BEGIN:STANDARD
TZOFFSETFROM:+0200
TZOFFSETTO:+0100
TZNAME:CET
DTSTART:20181028T010000
END:STANDARD
BEGIN:DAYLIGHT
TZOFFSETFROM:+0100
TZOFFSETTO:+0200
TZNAME:CEST
DTSTART:20190331T010000
END:DAYLIGHT
BEGIN:STANDARD
TZOFFSETFROM:+0200
TZOFFSETTO:+0100
TZNAME:CET
DTSTART:20191027T010000
END:STANDARD
BEGIN:DAYLIGHT
TZOFFSETFROM:+0100
TZOFFSETTO:+0200
TZNAME:CEST
DTSTART:20200329T010000
END:DAYLIGHT
BEGIN:STANDARD
TZOFFSETFROM:+0200
TZOFFSETTO:+0100
TZNAME:CET
DTSTART:20201025T010000
END:STANDARD
END:VTIMEZONE
BEGIN:VEVENT
DTSTART;TZID=Europe/Paris:20190622T100000
DTEND;TZID=Europe/Paris:20191106T180000
DTSTAMP:20260424T075438
CREATED:20190912T200914Z
LAST-MODIFIED:20190912T200914Z
UID:16587-1561197600-1573063200@actu.art
SUMMARY:Histoire de Corps
DESCRIPTION:Dans ses sculptures comme dans ses peintures\, Alberto Giacometti s’est concentré durant toute sa carrière sur un motif quasi-unique : la représentation de l’être humain\, qu’il considérait comme la raison d’être du geste artistique. L’exposition et l’ouvrage « Histoire de corps » se concentrent sur les figures du nu féminin\, pour lequel dès ses débuts l’artiste cherche à établir une nouveau canon de représentation. Passant du naturalisme à une schématisation néo-cubiste qui le conduit au seuil de l’abstraction\, optant durant sa période surréaliste pour une représentation symboliste\, Giacometti s’emploiera ensuite inlassablement à ouvrir une perspective moderne à la figuration d’après modèle. Le rapprochement des diverses sculptures\, peintures et dessins inspirés de sa femme Annette\, révèlera au public la diversité et l’originalité du traitement de ces figures nues\, toutes représentées dans la même position\, depuis le plus petit jusqu’au plus grand format
URL:https://actu.art/event/histoire-de-corps-2/
LOCATION:Institut Giacometti\, 5\, rue Victor Schoelcher\, Paris\, Paris\, 75014\, France
CATEGORIES:Notre Sélection
ATTACH;FMTTYPE=image/jpeg:https://actu.art/wp-content/uploads/2019/09/Histoire-de-Corps-Alberto-Giacometti.jpg
GEO:48.836203;2.331067
X-APPLE-STRUCTURED-LOCATION;VALUE=URI;X-ADDRESS=Institut Giacometti 5 rue Victor Schoelcher Paris Paris 75014 France;X-APPLE-RADIUS=500;X-TITLE=5\, rue Victor Schoelcher:geo:2.331067,48.836203
END:VEVENT
END:VCALENDAR