BEGIN:VCALENDAR
VERSION:2.0
PRODID:-//Actu.Art - ECPv6.15.13//NONSGML v1.0//EN
CALSCALE:GREGORIAN
METHOD:PUBLISH
X-WR-CALNAME:Actu.Art
X-ORIGINAL-URL:https://actu.art
X-WR-CALDESC:Évènements pour Actu.Art
BEGIN:VTIMEZONE
TZID:Europe/Paris
BEGIN:DAYLIGHT
TZOFFSETFROM:+0100
TZOFFSETTO:+0200
TZNAME:CEST
DTSTART:20250330T010000
END:DAYLIGHT
BEGIN:STANDARD
TZOFFSETFROM:+0200
TZOFFSETTO:+0100
TZNAME:CET
DTSTART:20251026T010000
END:STANDARD
BEGIN:DAYLIGHT
TZOFFSETFROM:+0100
TZOFFSETTO:+0200
TZNAME:CEST
DTSTART:20260329T010000
END:DAYLIGHT
BEGIN:STANDARD
TZOFFSETFROM:+0200
TZOFFSETTO:+0100
TZNAME:CET
DTSTART:20261025T010000
END:STANDARD
BEGIN:DAYLIGHT
TZOFFSETFROM:+0100
TZOFFSETTO:+0200
TZNAME:CEST
DTSTART:20270328T010000
END:DAYLIGHT
BEGIN:STANDARD
TZOFFSETFROM:+0200
TZOFFSETTO:+0100
TZNAME:CET
DTSTART:20271031T010000
END:STANDARD
END:VTIMEZONE
BEGIN:VEVENT
DTSTART;TZID=Europe/Paris:20260306T100000
DTEND;TZID=Europe/Paris:20260830T180000
DTSTAMP:20260424T034616
CREATED:20260303T220649Z
LAST-MODIFIED:20260303T220649Z
UID:139744-1772791200-1788112800@actu.art
SUMMARY:Hi – Yo\, c’est l’écho.  L’esprit de F’murrr\, annoté par Camille Potte
DESCRIPTION:Dans le cadre des Rencontres de l’Illustration\, le Musée Tomi Ungerer – Centre international de l’Illustration consacre au dessinateur F’murrr sa plus grande exposition institutionnelle à ce jour\, couvrant l’ensemble de son œuvre\, de la bande dessinée à l’illustration. F’murrr (1946–2018) devient\, dans les années 1970\, un auteur de bande dessinée largement connu du grand public grâce à la série Génie des Alpages et compte bientôt parmi les représentants les plus célèbres de la BD humoristique. Les moutons philosophes\, évoluant dans des montagnes à la fois bucoliques et abyssales\, sont empreints d’un amour du non-sens et de l’absurde qui traverse toute l’œuvre du dessinateur. \nOn y retrouve en écho de nombreuses allusions à la littérature\, à la culture quotidienne et à la philosophie. Outre l’œuvre de bande dessinée – tels les livres consacrés aux libres et redoutables héroïnes Jehanne d’Arc et Naphtalène\, la première bande dessinée Au Loup ! et l’ouvrage le plus politique sur la guerre en Afghanistan dans les années 1980\, Le Char de l’État dérape sur le sentier de la guerre – l’exposition présente pour la première fois de manière approfondie\, et avec un regard dans les coulisses des étapes de création\, l’œuvre d’illustration où résonnent les motifs de l’univers des bandes dessinées. On y découvre des dessins de presse ainsi que des illustrations pour des revues\, maisons d’édition et des agences telles que Notre Histoire\, Utopia ou l’Anvar. \nPour cette exposition\, la dessinatrice Camille Potte (née en 1992 et installée à Marseille)\, réalise spécialement des commentaires graphiques qui\, tel un écho\, relient l’héritage de l’artiste à la création contemporaine.  \nCommissariat : Anna Sailer\, conservatrice du Musée Tomi Ungerer – Centre international de l’Illustration Conseillères scientifiques : Barbara Pascarel et Elisabeth Walter\, Fonds de dotation F’murrr au futur \nCette exposition est réalisée avec le concours du Fonds de dotation F’murrr au futur.. \nDans le cadre du Printemps du dessin et des Rencontres de l’Illustration de Strasbourg
URL:https://actu.art/event/hi-yo-cest-lecho-lesprit-de-fmurrr-annote-par-camille-potte/
LOCATION:Musée Tomi Ungerer – Centre International de l’Illustration\, 2 avenue de la Marseillaise\, Strasbourg\, Bas-Rhin\, 67000\, France
CATEGORIES:Expositions Temporaires
ATTACH;FMTTYPE=image/jpeg:https://actu.art/wp-content/uploads/2026/03/Hi_Yo_c_est_l_echo_L_esprit_de_F_murrr_annote_par_Camille_Potte.jpg
GEO:48.5855434;7.7556043
X-APPLE-STRUCTURED-LOCATION;VALUE=URI;X-ADDRESS=Musée Tomi Ungerer – Centre International de l’Illustration 2 avenue de la Marseillaise Strasbourg Bas-Rhin 67000 France;X-APPLE-RADIUS=500;X-TITLE=2 avenue de la Marseillaise:geo:7.7556043,48.5855434
END:VEVENT
END:VCALENDAR