BEGIN:VCALENDAR
VERSION:2.0
PRODID:-//Actu.Art - ECPv6.15.13//NONSGML v1.0//EN
CALSCALE:GREGORIAN
METHOD:PUBLISH
X-WR-CALNAME:Actu.Art
X-ORIGINAL-URL:https://actu.art
X-WR-CALDESC:Évènements pour Actu.Art
BEGIN:VTIMEZONE
TZID:Europe/Paris
BEGIN:DAYLIGHT
TZOFFSETFROM:+0100
TZOFFSETTO:+0200
TZNAME:CEST
DTSTART:20240331T010000
END:DAYLIGHT
BEGIN:STANDARD
TZOFFSETFROM:+0200
TZOFFSETTO:+0100
TZNAME:CET
DTSTART:20241027T010000
END:STANDARD
BEGIN:DAYLIGHT
TZOFFSETFROM:+0100
TZOFFSETTO:+0200
TZNAME:CEST
DTSTART:20250330T010000
END:DAYLIGHT
BEGIN:STANDARD
TZOFFSETFROM:+0200
TZOFFSETTO:+0100
TZNAME:CET
DTSTART:20251026T010000
END:STANDARD
BEGIN:DAYLIGHT
TZOFFSETFROM:+0100
TZOFFSETTO:+0200
TZNAME:CEST
DTSTART:20260329T010000
END:DAYLIGHT
BEGIN:STANDARD
TZOFFSETFROM:+0200
TZOFFSETTO:+0100
TZNAME:CET
DTSTART:20261025T010000
END:STANDARD
END:VTIMEZONE
BEGIN:VEVENT
DTSTART;VALUE=DATE:20250403
DTEND;VALUE=DATE:20250714
DTSTAMP:20260423T032830
CREATED:20250530T214932Z
LAST-MODIFIED:20250530T214932Z
UID:117181-1743638400-1752451199@actu.art
SUMMARY:Henri Regnault (1843-1871)\, Le sabre et le pinceau
DESCRIPTION:Henri Regnault a laissé une empreinte indélébile grâce à ses œuvres saisissantes et son courage sur le champ de bataille notamment sur celui de la bataille de Montretout-Buzenval en janvier 1871 où il fut tué. Sa vie et ses créations reflètent une quête incessante de beauté et de vérité\, des premiers succès pour le prestigieux prix de Rome aux œuvres éclatantes réalisées durant ses voyages en Espagne et au Maroc.
URL:https://actu.art/event/henri-regnault-1843-1871-le-sabre-et-le-pinceau/
LOCATION:Musée des Avelines\, 60 Rue Gounod\, Saint Cloud\, Hauts-de-Seine\, 92210\, France
CATEGORIES:Expositions
ATTACH;FMTTYPE=image/jpeg:https://actu.art/wp-content/uploads/2025/05/Henri_Regnault_1843_1871_Le_sabre_et_le_pinceau.jpg
GEO:48.843443;2.2087126
X-APPLE-STRUCTURED-LOCATION;VALUE=URI;X-ADDRESS=Musée des Avelines 60 Rue Gounod Saint Cloud Hauts-de-Seine 92210 France;X-APPLE-RADIUS=500;X-TITLE=60 Rue Gounod:geo:2.2087126,48.843443
END:VEVENT
END:VCALENDAR