BEGIN:VCALENDAR
VERSION:2.0
PRODID:-//Actu.Art - ECPv6.15.13//NONSGML v1.0//EN
CALSCALE:GREGORIAN
METHOD:PUBLISH
X-WR-CALNAME:Actu.Art
X-ORIGINAL-URL:https://actu.art
X-WR-CALDESC:Évènements pour Actu.Art
BEGIN:VTIMEZONE
TZID:Europe/Paris
BEGIN:DAYLIGHT
TZOFFSETFROM:+0100
TZOFFSETTO:+0200
TZNAME:CEST
DTSTART:20220327T010000
END:DAYLIGHT
BEGIN:STANDARD
TZOFFSETFROM:+0200
TZOFFSETTO:+0100
TZNAME:CET
DTSTART:20221030T010000
END:STANDARD
BEGIN:DAYLIGHT
TZOFFSETFROM:+0100
TZOFFSETTO:+0200
TZNAME:CEST
DTSTART:20230326T010000
END:DAYLIGHT
BEGIN:STANDARD
TZOFFSETFROM:+0200
TZOFFSETTO:+0100
TZNAME:CET
DTSTART:20231029T010000
END:STANDARD
BEGIN:DAYLIGHT
TZOFFSETFROM:+0100
TZOFFSETTO:+0200
TZNAME:CEST
DTSTART:20240331T010000
END:DAYLIGHT
BEGIN:STANDARD
TZOFFSETFROM:+0200
TZOFFSETTO:+0100
TZNAME:CET
DTSTART:20241027T010000
END:STANDARD
END:VTIMEZONE
BEGIN:VEVENT
DTSTART;TZID=Europe/Paris:20230705T100000
DTEND;TZID=Europe/Paris:20230917T180000
DTSTAMP:20260423T032849
CREATED:20230505T123652Z
LAST-MODIFIED:20230909T160714Z
UID:60932-1688551200-1694973600@actu.art
SUMMARY:Graver la lumière
DESCRIPTION:Cette exposition est consacrée à l’histoire de l’estampe et à ses techniques. Dürer\, Rembrandt\, Piranèse\, Goya\, Corot\, Manet\, Degas\, Bonnard\, Vuillard… les œuvres des plus grands maîtres sont mises en regard avec les créations d’artistes contemporains de l’Atelier de Saint-Prex en Suisse. Le parcours de l’exposition se décline en 7 sections où sont abordés successivement thèmes\, fonctions et procédés de cet art comme l’héliogravure\, l’estampe au service du livre ou la gravure à l’eau forte.
URL:https://actu.art/event/graver-la-lumiere/
LOCATION:Musée Marmottan-Monet\, 2 Rue Louis Boilly\, Paris\, Paris\, 75016\, France
CATEGORIES:Notre Sélection
ATTACH;FMTTYPE=image/webp:https://actu.art/wp-content/uploads/2023/05/Graver-la-lumiere-Marmottan.webp
GEO:48.8592981;2.2673572
X-APPLE-STRUCTURED-LOCATION;VALUE=URI;X-ADDRESS=Musée Marmottan-Monet 2 Rue Louis Boilly Paris Paris 75016 France;X-APPLE-RADIUS=500;X-TITLE=2 Rue Louis Boilly:geo:2.2673572,48.8592981
END:VEVENT
END:VCALENDAR