BEGIN:VCALENDAR
VERSION:2.0
PRODID:-//Actu.Art - ECPv6.15.13//NONSGML v1.0//EN
CALSCALE:GREGORIAN
METHOD:PUBLISH
X-WR-CALNAME:Actu.Art
X-ORIGINAL-URL:https://actu.art
X-WR-CALDESC:Évènements pour Actu.Art
BEGIN:VTIMEZONE
TZID:Europe/Paris
BEGIN:DAYLIGHT
TZOFFSETFROM:+0100
TZOFFSETTO:+0200
TZNAME:CEST
DTSTART:20210328T010000
END:DAYLIGHT
BEGIN:STANDARD
TZOFFSETFROM:+0200
TZOFFSETTO:+0100
TZNAME:CET
DTSTART:20211031T010000
END:STANDARD
BEGIN:DAYLIGHT
TZOFFSETFROM:+0100
TZOFFSETTO:+0200
TZNAME:CEST
DTSTART:20220327T010000
END:DAYLIGHT
BEGIN:STANDARD
TZOFFSETFROM:+0200
TZOFFSETTO:+0100
TZNAME:CET
DTSTART:20221030T010000
END:STANDARD
BEGIN:DAYLIGHT
TZOFFSETFROM:+0100
TZOFFSETTO:+0200
TZNAME:CEST
DTSTART:20230326T010000
END:DAYLIGHT
BEGIN:STANDARD
TZOFFSETFROM:+0200
TZOFFSETTO:+0100
TZNAME:CET
DTSTART:20231029T010000
END:STANDARD
END:VTIMEZONE
BEGIN:VEVENT
DTSTART;TZID=Europe/Paris:20220329T100000
DTEND;TZID=Europe/Paris:20220724T180000
DTSTAMP:20260425T022836
CREATED:20211230T151907Z
LAST-MODIFIED:20220311T220319Z
UID:40944-1648548000-1658685600@actu.art
SUMMARY:Giovanni Boldini - Les plaisirs et les jours
DESCRIPTION:Cette première rétrospective est l’occasion pour le public français de (re)découvrir Giovanni Boldini\, peintre virtuose et figure du Paris mondain\, artistique et littéraire de la Belle Époque. \nNé en Italie\, à Ferrare en 1842\, Boldini passe la majeure partie de sa carrière dans la Ville lumière. Proche de Degas mais aussi de Proust\, il évolue dans les milieux aristocratiques et bourgeois et connait de son vivant un succès incontestable\, devenant le portraitiste favori d’une clientèle riche et internationale. Dans ce Paris capitale de la mode\, il n’a pas son pareil pour représenter princesses et riches héritières parées des plus belles robes. Ce style inimitable\, moderne mais à contre-courant des avant-gardes font de ses œuvres des témoignages captivants et émouvants de ce Paris perdu. \nL’exposition retrace de manière chrono-thématique le parcours de l’artiste\, de sa formation en Italie jusqu’à sa longue carrière parisienne. Elle met en évidence les liens de Boldini avec la société de son temps la mode et le luxe\, les célébrités et l’aristocratie européenne\, les modèles et les maîtresses\, les artistes et les écrivains.
URL:https://actu.art/event/giovanni-boldini-les-plaisirs-et-les-jours/
LOCATION:Petit Palais\, Musée des Beaux-Arts de la ville de Paris\, 6\, Avenue Winston Churchill\, Paris\, Paris\, 75008\, France
CATEGORIES:Notre Sélection
ATTACH;FMTTYPE=image/jpeg:https://actu.art/wp-content/uploads/2021/12/Giovanni-Boldini.jpg
GEO:48.8660773;2.3138827
X-APPLE-STRUCTURED-LOCATION;VALUE=URI;X-ADDRESS=Petit Palais Musée des Beaux-Arts de la ville de Paris 6 Avenue Winston Churchill Paris Paris 75008 France;X-APPLE-RADIUS=500;X-TITLE=6\, Avenue Winston Churchill:geo:2.3138827,48.8660773
END:VEVENT
END:VCALENDAR