BEGIN:VCALENDAR
VERSION:2.0
PRODID:-//Actu.Art - ECPv6.15.13//NONSGML v1.0//EN
CALSCALE:GREGORIAN
METHOD:PUBLISH
X-WR-CALNAME:Actu.Art
X-ORIGINAL-URL:https://actu.art
X-WR-CALDESC:Évènements pour Actu.Art
BEGIN:VTIMEZONE
TZID:Europe/Paris
BEGIN:DAYLIGHT
TZOFFSETFROM:+0100
TZOFFSETTO:+0200
TZNAME:CEST
DTSTART:20210328T010000
END:DAYLIGHT
BEGIN:STANDARD
TZOFFSETFROM:+0200
TZOFFSETTO:+0100
TZNAME:CET
DTSTART:20211031T010000
END:STANDARD
BEGIN:DAYLIGHT
TZOFFSETFROM:+0100
TZOFFSETTO:+0200
TZNAME:CEST
DTSTART:20220327T010000
END:DAYLIGHT
BEGIN:STANDARD
TZOFFSETFROM:+0200
TZOFFSETTO:+0100
TZNAME:CET
DTSTART:20221030T010000
END:STANDARD
BEGIN:DAYLIGHT
TZOFFSETFROM:+0100
TZOFFSETTO:+0200
TZNAME:CEST
DTSTART:20230326T010000
END:DAYLIGHT
BEGIN:STANDARD
TZOFFSETFROM:+0200
TZOFFSETTO:+0100
TZNAME:CET
DTSTART:20231029T010000
END:STANDARD
END:VTIMEZONE
BEGIN:VEVENT
DTSTART;VALUE=DATE:20220412
DTEND;VALUE=DATE:20220718
DTSTAMP:20260424T152643
CREATED:20211218T194653Z
LAST-MODIFIED:20220520T102809Z
UID:40656-1649721600-1658102399@actu.art
SUMMARY:Gaudí
DESCRIPTION:Antoni Gaudí (1852-1926) est un architecte singulier qui continue de marquer la Catalogne et la période dévolue à l’Art Nouveau en Europe. Son œuvre s’est développée dans le cadre d’un environnement politique\, social et artistique très spécifique ; loin de l’image habituelle du génie isolé. Le parcours d’exposition met ici en lumière des œuvres très variées de Gaudi\, allant de la photographie à du mobilier\, en passant par des moulages et des dessins d’architecture. Des maquettes permettent également de comprendre la recherche du volume et de l’organisation spatiale chez l’artiste.
URL:https://actu.art/event/gaudi/
LOCATION:Musée d’Orsay\, Esplanade Valéry Giscard d'Estaing\, Paris\, Paris\, 75007\, France
CATEGORIES:Notre Sélection
ATTACH;FMTTYPE=image/jpeg:https://actu.art/wp-content/uploads/2021/12/Gaudi-2.jpg
GEO:48.8601715;2.326074
X-APPLE-STRUCTURED-LOCATION;VALUE=URI;X-ADDRESS=Musée d’Orsay Esplanade Valéry Giscard d'Estaing Paris Paris 75007 France;X-APPLE-RADIUS=500;X-TITLE=Esplanade Valéry Giscard d'Estaing:geo:2.326074,48.8601715
END:VEVENT
END:VCALENDAR