BEGIN:VCALENDAR
VERSION:2.0
PRODID:-//Actu.Art - ECPv6.15.13//NONSGML v1.0//EN
CALSCALE:GREGORIAN
METHOD:PUBLISH
X-WR-CALNAME:Actu.Art
X-ORIGINAL-URL:https://actu.art
X-WR-CALDESC:Évènements pour Actu.Art
BEGIN:VTIMEZONE
TZID:Europe/Paris
BEGIN:DAYLIGHT
TZOFFSETFROM:+0100
TZOFFSETTO:+0200
TZNAME:CEST
DTSTART:20210328T010000
END:DAYLIGHT
BEGIN:STANDARD
TZOFFSETFROM:+0200
TZOFFSETTO:+0100
TZNAME:CET
DTSTART:20211031T010000
END:STANDARD
BEGIN:DAYLIGHT
TZOFFSETFROM:+0100
TZOFFSETTO:+0200
TZNAME:CEST
DTSTART:20220327T010000
END:DAYLIGHT
BEGIN:STANDARD
TZOFFSETFROM:+0200
TZOFFSETTO:+0100
TZNAME:CET
DTSTART:20221030T010000
END:STANDARD
BEGIN:DAYLIGHT
TZOFFSETFROM:+0100
TZOFFSETTO:+0200
TZNAME:CEST
DTSTART:20230326T010000
END:DAYLIGHT
BEGIN:STANDARD
TZOFFSETFROM:+0200
TZOFFSETTO:+0100
TZNAME:CET
DTSTART:20231029T010000
END:STANDARD
END:VTIMEZONE
BEGIN:VEVENT
DTSTART;TZID=Europe/Paris:20220311T100000
DTEND;TZID=Europe/Paris:20220725T180000
DTSTAMP:20260424T152718
CREATED:20211218T192840Z
LAST-MODIFIED:20220323T081530Z
UID:40630-1646992800-1658772000@actu.art
SUMMARY:Gallen-Kallela
DESCRIPTION:L’œuvre du peintre finlandais Akseli Gallen-Kallela (1865-1931) est mise en lumière à travers près de 70 œuvres issues de collections publiques et privées\, dont des tableaux du musée Gallen-Kallela d’Espoo. Le parcours explore un aspect dominant de l’œuvre de l’artiste : le thème de la nature et du paysage finlandais. L’exposition propose d’étudier\, de manière plus approfondie\, la question de la relation de l’artiste à la nature ; une relation qui évolue au cours sa carrière.
URL:https://actu.art/event/gallen-kallela/
LOCATION:Musée Jacquemart-André\, 158 Boulevard Haussmann\, Paris\, Paris\, 75008\, France
CATEGORIES:Notre Sélection
ATTACH;FMTTYPE=image/jpeg:https://actu.art/wp-content/uploads/2021/12/Gallen-Kallela.jpg
GEO:48.8755529;2.3104223
X-APPLE-STRUCTURED-LOCATION;VALUE=URI;X-ADDRESS=Musée Jacquemart-André 158 Boulevard Haussmann Paris Paris 75008 France;X-APPLE-RADIUS=500;X-TITLE=158 Boulevard Haussmann:geo:2.3104223,48.8755529
END:VEVENT
END:VCALENDAR