BEGIN:VCALENDAR
VERSION:2.0
PRODID:-//Actu.Art - ECPv6.15.13//NONSGML v1.0//EN
CALSCALE:GREGORIAN
METHOD:PUBLISH
X-WR-CALNAME:Actu.Art
X-ORIGINAL-URL:https://actu.art
X-WR-CALDESC:Évènements pour Actu.Art
BEGIN:VTIMEZONE
TZID:Europe/Paris
BEGIN:DAYLIGHT
TZOFFSETFROM:+0100
TZOFFSETTO:+0200
TZNAME:CEST
DTSTART:20240331T010000
END:DAYLIGHT
BEGIN:STANDARD
TZOFFSETFROM:+0200
TZOFFSETTO:+0100
TZNAME:CET
DTSTART:20241027T010000
END:STANDARD
BEGIN:DAYLIGHT
TZOFFSETFROM:+0100
TZOFFSETTO:+0200
TZNAME:CEST
DTSTART:20250330T010000
END:DAYLIGHT
BEGIN:STANDARD
TZOFFSETFROM:+0200
TZOFFSETTO:+0100
TZNAME:CET
DTSTART:20251026T010000
END:STANDARD
BEGIN:DAYLIGHT
TZOFFSETFROM:+0100
TZOFFSETTO:+0200
TZNAME:CEST
DTSTART:20260329T010000
END:DAYLIGHT
BEGIN:STANDARD
TZOFFSETFROM:+0200
TZOFFSETTO:+0100
TZNAME:CET
DTSTART:20261025T010000
END:STANDARD
END:VTIMEZONE
BEGIN:VEVENT
DTSTART;TZID=Europe/Paris:20251108T000000
DTEND;TZID=Europe/Paris:20251123T235900
DTSTAMP:20260424T113322
CREATED:20251118T133408Z
LAST-MODIFIED:20251118T133408Z
UID:133500-1762560000-1763942340@actu.art
SUMMARY:Galerie Saint Simon – Changzheng Zhu
DESCRIPTION:Artiste dans l’âme\, diplômée de l’école des Beaux-arts de Versailles en France \, Changzheng ZHU est une artiste peintre et sculptrice dont le travail est centré sur le thème de la femme. Ses œuvres capturent la beauté et la grâce des femmes à travers des courbes fluides et des lignes élégantes\, reflétant la puissance et la sensualité de la féminité.\nInspirée par les textures et les craquelures du raku\, elle intègre ces éléments dans ses peintures pour créer des effets visuels uniques et captivants. Les textures sculpturales ajoutent une dimension supplémentaire à ses œuvres\, invitant les spectateurs à explorer les profondeurs de ses compositions avec leurs sens tactiles autant que visuels.\nSon style artistique distinctif combine habilement les techniques de la peinture et de la sculpture\, créant des œuvres qui évoquent à la fois la délicatesse et la force.\nL’artiste a été maintes fois récompensée en France\, et a remporté trois prix au Salon des Artistes français à Paris.
URL:https://actu.art/event/galerie-saint-simon-changzheng-zhu/
LOCATION:Galerie Saint Simon\, 10\, rue Saint-Simon\, Versailles\, Yvelines\, 78000\, France
CATEGORIES:Expositions Galeries
ATTACH;FMTTYPE=image/jpeg:https://actu.art/wp-content/uploads/2025/11/Galerie_Saint_Simon_Changzheng_Zhu.jpg
GEO:48.803946;2.1342357
X-APPLE-STRUCTURED-LOCATION;VALUE=URI;X-ADDRESS=Galerie Saint Simon 10 rue Saint-Simon Versailles Yvelines 78000 France;X-APPLE-RADIUS=500;X-TITLE=10\, rue Saint-Simon:geo:2.1342357,48.803946
END:VEVENT
END:VCALENDAR