BEGIN:VCALENDAR
VERSION:2.0
PRODID:-//Actu.Art - ECPv6.15.13//NONSGML v1.0//EN
CALSCALE:GREGORIAN
METHOD:PUBLISH
X-WR-CALNAME:Actu.Art
X-ORIGINAL-URL:https://actu.art
X-WR-CALDESC:Évènements pour Actu.Art
BEGIN:VTIMEZONE
TZID:Europe/Paris
BEGIN:DAYLIGHT
TZOFFSETFROM:+0100
TZOFFSETTO:+0200
TZNAME:CEST
DTSTART:20240331T010000
END:DAYLIGHT
BEGIN:STANDARD
TZOFFSETFROM:+0200
TZOFFSETTO:+0100
TZNAME:CET
DTSTART:20241027T010000
END:STANDARD
BEGIN:DAYLIGHT
TZOFFSETFROM:+0100
TZOFFSETTO:+0200
TZNAME:CEST
DTSTART:20250330T010000
END:DAYLIGHT
BEGIN:STANDARD
TZOFFSETFROM:+0200
TZOFFSETTO:+0100
TZNAME:CET
DTSTART:20251026T010000
END:STANDARD
BEGIN:DAYLIGHT
TZOFFSETFROM:+0100
TZOFFSETTO:+0200
TZNAME:CEST
DTSTART:20260329T010000
END:DAYLIGHT
BEGIN:STANDARD
TZOFFSETFROM:+0200
TZOFFSETTO:+0100
TZNAME:CET
DTSTART:20261025T010000
END:STANDARD
END:VTIMEZONE
BEGIN:VEVENT
DTSTART;TZID=Europe/Paris:20250904T150000
DTEND;TZID=Europe/Paris:20250928T183000
DTSTAMP:20260423T133653
CREATED:20250714T182349Z
LAST-MODIFIED:20250714T182349Z
UID:123958-1756998000-1759084200@actu.art
SUMMARY:Galerie de l'Oscambre - Exposition
DESCRIPTION:Exposition  de Catherine MENAT (créations textiles)\, Nadia BRANCHARD (poupées textiles)\, Françoise ETIENNE (pastels) et Bénédicte SERRE (peintures)\, dédiée aux amateurs d’art textile et pictural.
URL:https://actu.art/event/galerie-de-loscambre-exposition/
LOCATION:Galerie de l’Oscambre\, 41 place de l'Oscambre\, Chantelle\, Allier\, 03140\, France
CATEGORIES:Expositions Galeries
GEO:46.2372195;3.1513029
X-APPLE-STRUCTURED-LOCATION;VALUE=URI;X-ADDRESS=Galerie de l’Oscambre 41 place de l'Oscambre Chantelle Allier 03140 France;X-APPLE-RADIUS=500;X-TITLE=41 place de l'Oscambre:geo:3.1513029,46.2372195
END:VEVENT
END:VCALENDAR