BEGIN:VCALENDAR
VERSION:2.0
PRODID:-//Actu.Art - ECPv6.15.13//NONSGML v1.0//EN
CALSCALE:GREGORIAN
METHOD:PUBLISH
X-WR-CALNAME:Actu.Art
X-ORIGINAL-URL:https://actu.art
X-WR-CALDESC:Évènements pour Actu.Art
BEGIN:VTIMEZONE
TZID:Europe/Paris
BEGIN:DAYLIGHT
TZOFFSETFROM:+0100
TZOFFSETTO:+0200
TZNAME:CEST
DTSTART:20240331T010000
END:DAYLIGHT
BEGIN:STANDARD
TZOFFSETFROM:+0200
TZOFFSETTO:+0100
TZNAME:CET
DTSTART:20241027T010000
END:STANDARD
BEGIN:DAYLIGHT
TZOFFSETFROM:+0100
TZOFFSETTO:+0200
TZNAME:CEST
DTSTART:20250330T010000
END:DAYLIGHT
BEGIN:STANDARD
TZOFFSETFROM:+0200
TZOFFSETTO:+0100
TZNAME:CET
DTSTART:20251026T010000
END:STANDARD
BEGIN:DAYLIGHT
TZOFFSETFROM:+0100
TZOFFSETTO:+0200
TZNAME:CEST
DTSTART:20260329T010000
END:DAYLIGHT
BEGIN:STANDARD
TZOFFSETFROM:+0200
TZOFFSETTO:+0100
TZNAME:CET
DTSTART:20261025T010000
END:STANDARD
BEGIN:DAYLIGHT
TZOFFSETFROM:+0100
TZOFFSETTO:+0200
TZNAME:CEST
DTSTART:20270328T010000
END:DAYLIGHT
BEGIN:STANDARD
TZOFFSETFROM:+0200
TZOFFSETTO:+0100
TZNAME:CET
DTSTART:20271031T010000
END:STANDARD
END:VTIMEZONE
BEGIN:VEVENT
DTSTART;VALUE=DATE:20251026
DTEND;VALUE=DATE:20260323
DTSTAMP:20260421T165435
CREATED:20260305T160205Z
LAST-MODIFIED:20260305T160205Z
UID:139721-1761436800-1774223999@actu.art
SUMMARY:Gabriel Abrantes : Limbo
DESCRIPTION:Gabriel Abrantes\, artiste-réalisateur américano-portugais est invité à la Collection Lambert pour sa première grande exposition en France.\nInternationalement reconnu pour ses films (Grand prix de la Semaine de la critique au festival de Cannes pour le long métrage Diamantino en 2018)\, il présente à Avignon toute la richesse d’un travail où se mêlent installations vidéo\, films\, peintures et dessins\, où les nouvelles technologies rencontrent la poésie avec force et élégance.\nDans les salles de l’Hôtel de Montfaucon\, il présentera une série de dessins\, peintures et vidéos récentes\, dont la grande installation Bardo Loops\, commandée en 2024 par le CAM Gulbenkian à Lisbonne et exposée à l’occasion de la réouverture de son centre d’art moderne.\nÀ travers cette multitude de médiums qu’il aborde tous avec une virtuosité déconcertante\, Gabriel Abrantes dépeint un monde étrange dans lequel l’algorithme et l’intelligence artificielle semblent avoir pris le dessus.
URL:https://actu.art/event/gabriel-abrantes-limbo/
LOCATION:Collection Lambert Avignon\, 5 rue Violette\, Avignon\, Vaucluse\, 84000\, France
CATEGORIES:Expositions Temporaires
ATTACH;FMTTYPE=image/jpeg:https://actu.art/wp-content/uploads/2026/03/Gabriel_Abrantes_Limbo.jpg
GEO:43.9447126;4.8042778
X-APPLE-STRUCTURED-LOCATION;VALUE=URI;X-ADDRESS=Collection Lambert Avignon 5 rue Violette Avignon Vaucluse 84000 France;X-APPLE-RADIUS=500;X-TITLE=5 rue Violette:geo:4.8042778,43.9447126
END:VEVENT
END:VCALENDAR