BEGIN:VCALENDAR
VERSION:2.0
PRODID:-//Actu.Art - ECPv6.15.13//NONSGML v1.0//EN
CALSCALE:GREGORIAN
METHOD:PUBLISH
X-WR-CALNAME:Actu.Art
X-ORIGINAL-URL:https://actu.art
X-WR-CALDESC:Évènements pour Actu.Art
BEGIN:VTIMEZONE
TZID:Europe/Paris
BEGIN:DAYLIGHT
TZOFFSETFROM:+0100
TZOFFSETTO:+0200
TZNAME:CEST
DTSTART:20210328T010000
END:DAYLIGHT
BEGIN:STANDARD
TZOFFSETFROM:+0200
TZOFFSETTO:+0100
TZNAME:CET
DTSTART:20211031T010000
END:STANDARD
BEGIN:DAYLIGHT
TZOFFSETFROM:+0100
TZOFFSETTO:+0200
TZNAME:CEST
DTSTART:20220327T010000
END:DAYLIGHT
BEGIN:STANDARD
TZOFFSETFROM:+0200
TZOFFSETTO:+0100
TZNAME:CET
DTSTART:20221030T010000
END:STANDARD
BEGIN:DAYLIGHT
TZOFFSETFROM:+0100
TZOFFSETTO:+0200
TZNAME:CEST
DTSTART:20230326T010000
END:DAYLIGHT
BEGIN:STANDARD
TZOFFSETFROM:+0200
TZOFFSETTO:+0100
TZNAME:CET
DTSTART:20231029T010000
END:STANDARD
BEGIN:DAYLIGHT
TZOFFSETFROM:+0100
TZOFFSETTO:+0200
TZNAME:CEST
DTSTART:20240331T010000
END:DAYLIGHT
BEGIN:STANDARD
TZOFFSETFROM:+0200
TZOFFSETTO:+0100
TZNAME:CET
DTSTART:20241027T010000
END:STANDARD
END:VTIMEZONE
BEGIN:VEVENT
DTSTART;TZID=Europe/Paris:20220915T100000
DTEND;TZID=Europe/Paris:20230305T180000
DTSTAMP:20260424T020853
CREATED:20220719T152326Z
LAST-MODIFIED:20230114T115309Z
UID:46665-1663236000-1678039200@actu.art
SUMMARY:Frida Kahlo Au-delà des apparences
DESCRIPTION:Cet automne\, le Palais Galliera célèbre Frida Kahlo (6 juillet 1907-13 juillet 1954)\, l’une des artistes les plus reconnues et influentes du XXe siècle.\nLoin des clichés qui entourent sa personnalité\, l’exposition « Frida Kahlo\, au-delà des apparences » propose aux visiteurs d’entrer dans l’intimité de l’artiste\, et de comprendre comment elle s’est construite une identité à travers la manière de se présenter et de se représenter.\nPour la première fois en France et en étroite collaboration avec le Museo Frida Kahlo\, l’exposition rassemble plus de 200 objets provenant de la Casa Azul\, la maison où Frida est née et a grandi : vêtements\, correspondances\, accessoires\, cosmétiques\, médicaments\, prothèses médicales…\nCes effets personnels ont été mis sous scellés au décès de l’artiste\, en 1954\, par son mari le peintre muraliste mexicain Diego Rivera\, et ont été redécouverts cinquante ans plus tard\, en 2004.\nCette précieuse collection – comprenant des robes traditionnelles Tehuana\, des colliers précolombiens que Frida collectionnait\, des exemplaires de corsets et de prothèses peints à la main… – est présentée\, avec des films et photographies de l’artiste\, pour constituer un récit visuel de sa vie hors normes.\n___________\nLa visite se prolonge avec une exposition-capsule (du 15 sept. au 31 dec. 2022) qui aborde l’influence de l’artiste sur la mode contemporaine et la façon dont elle demeure\, encore de nos jours\, une icône et une source d’inspiration pour les designers\, parmi lesquels Alexander McQueen\, Jean Paul Gaultier\, Karl Lagerfeld pour CHANEL\, Riccardo Tisci pour Givenchy\, Maria Grazia Chiuri pour Dior ou Rei Kawakubo pour Comme des Garçons.
URL:https://actu.art/event/frida-kahlo-au-dela-des-apparences/
LOCATION:Palais Galliera\, 10 Avenue Pierre 1er de Serbie\, Paris 16e\, Paris\, 75016\, France
CATEGORIES:Notre Sélection
ATTACH;FMTTYPE=image/jpeg:https://actu.art/wp-content/uploads/2022/07/Frida_Kahlo_Au_dela_des_apparences.jpg
GEO:48.8656028;2.2966797
X-APPLE-STRUCTURED-LOCATION;VALUE=URI;X-ADDRESS=Palais Galliera 10 Avenue Pierre 1er de Serbie Paris 16e Paris 75016 France;X-APPLE-RADIUS=500;X-TITLE=10 Avenue Pierre 1er de Serbie:geo:2.2966797,48.8656028
END:VEVENT
END:VCALENDAR