BEGIN:VCALENDAR
VERSION:2.0
PRODID:-//Actu.Art - ECPv6.15.13//NONSGML v1.0//EN
CALSCALE:GREGORIAN
METHOD:PUBLISH
X-WR-CALNAME:Actu.Art
X-ORIGINAL-URL:https://actu.art
X-WR-CALDESC:Évènements pour Actu.Art
BEGIN:VTIMEZONE
TZID:Europe/Paris
BEGIN:DAYLIGHT
TZOFFSETFROM:+0100
TZOFFSETTO:+0200
TZNAME:CEST
DTSTART:20180325T010000
END:DAYLIGHT
BEGIN:STANDARD
TZOFFSETFROM:+0200
TZOFFSETTO:+0100
TZNAME:CET
DTSTART:20181028T010000
END:STANDARD
BEGIN:DAYLIGHT
TZOFFSETFROM:+0100
TZOFFSETTO:+0200
TZNAME:CEST
DTSTART:20190331T010000
END:DAYLIGHT
BEGIN:STANDARD
TZOFFSETFROM:+0200
TZOFFSETTO:+0100
TZNAME:CET
DTSTART:20191027T010000
END:STANDARD
BEGIN:DAYLIGHT
TZOFFSETFROM:+0100
TZOFFSETTO:+0200
TZNAME:CEST
DTSTART:20200329T010000
END:DAYLIGHT
BEGIN:STANDARD
TZOFFSETFROM:+0200
TZOFFSETTO:+0100
TZNAME:CET
DTSTART:20201025T010000
END:STANDARD
END:VTIMEZONE
BEGIN:VEVENT
DTSTART;TZID=Europe/Paris:20190608T120000
DTEND;TZID=Europe/Paris:20190825T180000
DTSTAMP:20260424T060019
CREATED:20190602T201223Z
LAST-MODIFIED:20190623T123850Z
UID:8403-1559995200-1566756000@actu.art
SUMMARY:Frans Hals\, Portraits de famille
DESCRIPTION:Frans Hals (1582/1583-1666) est l’un des plus grands portraitistes du Siècle d’or hollandais. Il a\, avec Rembrandt\, révolutionné ce genre pictural. Connu pour ses portraits individuels\, ainsi que ses grandes compositions représentant les membres de milices\, il a également produit des portraits de famille. Seulement quatre d’entre eux sont parvenus jusqu’à la Fondation Custodia. Ils sont à découvrir à travers ce parcours\, enrichi par une sélection de dessins préparatoires pour des portraits de famille réalisés par des artistes hollandais et flamands du XVIIe siècle.
URL:https://actu.art/event/frans-hals-portraits-de-famille/
LOCATION:Fondation Custodia\, 121 Rue de Lille\, Paris\, Paris\, 75007\, France
CATEGORIES:Notre Sélection
ATTACH;FMTTYPE=image/jpeg:https://actu.art/wp-content/uploads/2019/06/Franz-Hals-Portraits-de-Famille.jpg
GEO:48.8613086;2.3197055
X-APPLE-STRUCTURED-LOCATION;VALUE=URI;X-ADDRESS=Fondation Custodia 121 Rue de Lille Paris Paris 75007 France;X-APPLE-RADIUS=500;X-TITLE=121 Rue de Lille:geo:2.3197055,48.8613086
END:VEVENT
END:VCALENDAR