BEGIN:VCALENDAR
VERSION:2.0
PRODID:-//Actu.Art - ECPv6.15.13//NONSGML v1.0//EN
CALSCALE:GREGORIAN
METHOD:PUBLISH
X-WR-CALNAME:Actu.Art
X-ORIGINAL-URL:https://actu.art
X-WR-CALDESC:Évènements pour Actu.Art
BEGIN:VTIMEZONE
TZID:Europe/Paris
BEGIN:DAYLIGHT
TZOFFSETFROM:+0100
TZOFFSETTO:+0200
TZNAME:CEST
DTSTART:20160327T010000
END:DAYLIGHT
BEGIN:STANDARD
TZOFFSETFROM:+0200
TZOFFSETTO:+0100
TZNAME:CET
DTSTART:20161030T010000
END:STANDARD
BEGIN:DAYLIGHT
TZOFFSETFROM:+0100
TZOFFSETTO:+0200
TZNAME:CEST
DTSTART:20170326T010000
END:DAYLIGHT
BEGIN:STANDARD
TZOFFSETFROM:+0200
TZOFFSETTO:+0100
TZNAME:CET
DTSTART:20171029T010000
END:STANDARD
BEGIN:DAYLIGHT
TZOFFSETFROM:+0100
TZOFFSETTO:+0200
TZNAME:CEST
DTSTART:20180325T010000
END:DAYLIGHT
BEGIN:STANDARD
TZOFFSETFROM:+0200
TZOFFSETTO:+0100
TZNAME:CET
DTSTART:20181028T010000
END:STANDARD
BEGIN:DAYLIGHT
TZOFFSETFROM:+0100
TZOFFSETTO:+0200
TZNAME:CEST
DTSTART:20190331T010000
END:DAYLIGHT
BEGIN:STANDARD
TZOFFSETFROM:+0200
TZOFFSETTO:+0100
TZNAME:CET
DTSTART:20191027T010000
END:STANDARD
END:VTIMEZONE
BEGIN:VEVENT
DTSTART;TZID=Europe/Paris:20171018T090000
DTEND;TZID=Europe/Paris:20180115T180000
DTSTAMP:20260419T151115
CREATED:20170827T181247Z
LAST-MODIFIED:20210210T190446Z
UID:2027-1508317200-1516039200@actu.art
SUMMARY:François Ier et l’art des Pays-Bas
DESCRIPTION:Si le goût de François Ier pour l’art italien est bien connu et son mécénat essentiellement identifié à la création du foyer italianisant de Fontainebleau\, son règne ne s’inscrit pas moins dans une tradition très vivace d’implantation en France d’artistes originaires des Pays-Bas. L’exposition fait ainsi resurgir tout un pan méconnu de la Renaissance française et se propose d’explorer la variété\, les extravagances et la monumentalité. \nFrançois Ier achète abondamment des tapisseries\, des pièces d’orfèvrerie et des tableaux flamands. Le roi favorise ainsi l’émergence de nouveaux artistes originaires des Pays-Bas. Les plus connus d’entre ces artistes du nord alors actifs en France\, Jean Clouet et Corneille de la Haye dit Corneille de Lyon\, se spécialisent dans le portrait. L’exposition rassemble exceptionnellement l’œuvre peint de Jean Clouet (seule une dizaine de panneaux sont attestés de la main de l’artiste)\, ainsi que quelques-uns de ses dessins préparatoires\, pris sur le vif. \nTant à Paris que dans les foyers normands\, picards\, champenois et bourguignons\, s’est largement épanouie\, dans l’art du manuscrit enluminé et dans la peinture religieuse une vage d’influences septentrionales (d’Anvers\, Bruxelles\, Leyden ou Haarlem). Les recherches récentes ont peu à peu révélées des artistes injustement tombés dans l’oubli : Godefroy le Batave\, Noël Bellemare\, Grégoire Guérard\, Batholomeus Pons\, entre autres\, se sont illustrés dans des techniques aussi diverses que l’enluminure\, la peinture\, le vitrail\, la tapisserie\, la sculpture.
URL:https://actu.art/event/francois-ier-lart-pays-bas/
LOCATION:Musée du Louvre\, rue de Rivoli\, Paris 01\, Paris\, 75001\, France
CATEGORIES:Notre Sélection
ATTACH;FMTTYPE=image/jpeg:https://actu.art/wp-content/uploads/2017/08/François-1er-396x500.jpg
GEO:48.8557059;2.3589484
X-APPLE-STRUCTURED-LOCATION;VALUE=URI;X-ADDRESS=Musée du Louvre rue de Rivoli Paris 01 Paris 75001 France;X-APPLE-RADIUS=500;X-TITLE=rue de Rivoli:geo:2.3589484,48.8557059
END:VEVENT
END:VCALENDAR