BEGIN:VCALENDAR
VERSION:2.0
PRODID:-//Actu.Art - ECPv6.15.13//NONSGML v1.0//EN
CALSCALE:GREGORIAN
METHOD:PUBLISH
X-WR-CALNAME:Actu.Art
X-ORIGINAL-URL:https://actu.art
X-WR-CALDESC:Évènements pour Actu.Art
BEGIN:VTIMEZONE
TZID:Europe/Paris
BEGIN:DAYLIGHT
TZOFFSETFROM:+0100
TZOFFSETTO:+0200
TZNAME:CEST
DTSTART:20180325T010000
END:DAYLIGHT
BEGIN:STANDARD
TZOFFSETFROM:+0200
TZOFFSETTO:+0100
TZNAME:CET
DTSTART:20181028T010000
END:STANDARD
BEGIN:DAYLIGHT
TZOFFSETFROM:+0100
TZOFFSETTO:+0200
TZNAME:CEST
DTSTART:20190331T010000
END:DAYLIGHT
BEGIN:STANDARD
TZOFFSETFROM:+0200
TZOFFSETTO:+0100
TZNAME:CET
DTSTART:20191027T010000
END:STANDARD
BEGIN:DAYLIGHT
TZOFFSETFROM:+0100
TZOFFSETTO:+0200
TZNAME:CEST
DTSTART:20200329T010000
END:DAYLIGHT
BEGIN:STANDARD
TZOFFSETFROM:+0200
TZOFFSETTO:+0100
TZNAME:CET
DTSTART:20201025T010000
END:STANDARD
BEGIN:DAYLIGHT
TZOFFSETFROM:+0100
TZOFFSETTO:+0200
TZNAME:CEST
DTSTART:20210328T010000
END:DAYLIGHT
BEGIN:STANDARD
TZOFFSETFROM:+0200
TZOFFSETTO:+0100
TZNAME:CET
DTSTART:20211031T010000
END:STANDARD
BEGIN:DAYLIGHT
TZOFFSETFROM:+0100
TZOFFSETTO:+0200
TZNAME:CEST
DTSTART:20220327T010000
END:DAYLIGHT
BEGIN:STANDARD
TZOFFSETFROM:+0200
TZOFFSETTO:+0100
TZNAME:CET
DTSTART:20221030T010000
END:STANDARD
END:VTIMEZONE
BEGIN:VEVENT
DTSTART;TZID=Europe/Paris:20190925T090000
DTEND;TZID=Europe/Paris:20210705T180000
DTSTAMP:20260425T034845
CREATED:20190928T065527Z
LAST-MODIFIED:20210112T211542Z
UID:17038-1569402000-1625508000@actu.art
SUMMARY:Figure d’Artiste
DESCRIPTION:La Petite Galerie du Louvre propose\, pour sa 5e saison\, une exposition intitulée « Figure d’artiste ». Elle accompagne le cycle d’expositions que le musée consacre en 2019-2020 aux génies de la Renaissance : Vinci\, Donatello\, Michel-Ange ou Altdorfer. \nC’est à la Renaissance que l’artiste affirme son indépendance et cherche à quitter le statut d’artisan pour revendiquer une place particulière dans la cité. Cette invention de la figure de l’Artiste a cependant une histoire plus ancienne et complexe que l’ampleur des collections du Louvre permet de mesurer\, des premières signatures d’artisans dans l’Antiquité aux autoportraits de l’époque romantique. La signature\, l’autoportrait\,  l’invention du genre de la biographie d’artiste servent son dessein : mettre en images les mots et accéder à la renommée accordée aux poètes  inspirés par les Muses. En France\, l’Académie royale de peinture et de sculpture et le Salon\, première exposition temporaire d’art contemporain\, apportent\, sous le regard de la critique\, la reconnaissance et les commandes aux artistes avant qu’ils ne soient consacrés par leur entrée au musée. C’est ainsi que le lien ancien entre les arts visuels et les textes  a conduit à inviter\, cette année\, la littérature pour un dialogue fécond entre textes et images. \n\nVisite Virtuelle
URL:https://actu.art/event/figure-dartiste/
LOCATION:Petite Galerie du Louvre\, Aile Richelieu\, Rue de Rivoli\, Paris 01\, Paris\, 75001\, France
CATEGORIES:Expositions Virtuelles,Notre Sélection
ATTACH;FMTTYPE=image/jpeg:https://actu.art/wp-content/uploads/2019/09/Figure-dartiste.jpg
GEO:48.8606111;2.337644
X-APPLE-STRUCTURED-LOCATION;VALUE=URI;X-ADDRESS=Petite Galerie du Louvre Aile Richelieu Rue de Rivoli Paris 01 Paris 75001 France;X-APPLE-RADIUS=500;X-TITLE=Aile Richelieu\, Rue de Rivoli:geo:2.337644,48.8606111
END:VEVENT
END:VCALENDAR