BEGIN:VCALENDAR
VERSION:2.0
PRODID:-//Actu.Art - ECPv6.15.13//NONSGML v1.0//EN
CALSCALE:GREGORIAN
METHOD:PUBLISH
X-WR-CALNAME:Actu.Art
X-ORIGINAL-URL:https://actu.art
X-WR-CALDESC:Évènements pour Actu.Art
BEGIN:VTIMEZONE
TZID:Europe/Paris
BEGIN:DAYLIGHT
TZOFFSETFROM:+0100
TZOFFSETTO:+0200
TZNAME:CEST
DTSTART:20240331T010000
END:DAYLIGHT
BEGIN:STANDARD
TZOFFSETFROM:+0200
TZOFFSETTO:+0100
TZNAME:CET
DTSTART:20241027T010000
END:STANDARD
BEGIN:DAYLIGHT
TZOFFSETFROM:+0100
TZOFFSETTO:+0200
TZNAME:CEST
DTSTART:20250330T010000
END:DAYLIGHT
BEGIN:STANDARD
TZOFFSETFROM:+0200
TZOFFSETTO:+0100
TZNAME:CET
DTSTART:20251026T010000
END:STANDARD
BEGIN:DAYLIGHT
TZOFFSETFROM:+0100
TZOFFSETTO:+0200
TZNAME:CEST
DTSTART:20260329T010000
END:DAYLIGHT
BEGIN:STANDARD
TZOFFSETFROM:+0200
TZOFFSETTO:+0100
TZNAME:CET
DTSTART:20261025T010000
END:STANDARD
END:VTIMEZONE
BEGIN:VEVENT
DTSTART;TZID=Europe/Paris:20250530T140000
DTEND;TZID=Europe/Paris:20250601T170000
DTSTAMP:20260426T032648
CREATED:20250223T125002Z
LAST-MODIFIED:20250223T125002Z
UID:109885-1748613600-1748797200@actu.art
SUMMARY:Festival des Ludions
DESCRIPTION:Le festival des Ludions aura lieu pendant le week-end de l’Ascension. Une vingtaine d’artistes seront accueillis dans des maisons particulières et des lieux publics (église\, salle des fêtes…) de Carolles. Il y aura ainsi des peintres\, sculpteurs\, céramistes\, photographes…\, locaux\, mais aussi nationaux et même internationaux. \n\nEn plus des expositions\, sont prévues des déambulations\, des scènes ouvertes (chant\, musique\, poésie\, slam…)\, des soirées conviviales (théâtre\, musique) ainsi qu’un atelier d’écriture et des rencontres littéraires. \n 
URL:https://actu.art/event/festival-des-ludions/
LOCATION:Espace François Simon\, 45 Rue Division Leclerc\, Carolles\, 50740\, France
CATEGORIES:Expositions
ATTACH;FMTTYPE=image/jpeg:https://actu.art/wp-content/uploads/2025/02/Les-Ludions.jpg
GEO:48.7510302;-1.5618722
X-APPLE-STRUCTURED-LOCATION;VALUE=URI;X-ADDRESS=Espace François Simon 45 Rue Division Leclerc Carolles 50740 France;X-APPLE-RADIUS=500;X-TITLE=45 Rue Division Leclerc:geo:-1.5618722,48.7510302
END:VEVENT
END:VCALENDAR