BEGIN:VCALENDAR
VERSION:2.0
PRODID:-//Actu.Art - ECPv6.15.13//NONSGML v1.0//EN
CALSCALE:GREGORIAN
METHOD:PUBLISH
X-WR-CALNAME:Actu.Art
X-ORIGINAL-URL:https://actu.art
X-WR-CALDESC:Évènements pour Actu.Art
BEGIN:VTIMEZONE
TZID:Europe/Paris
BEGIN:DAYLIGHT
TZOFFSETFROM:+0100
TZOFFSETTO:+0200
TZNAME:CEST
DTSTART:20180325T010000
END:DAYLIGHT
BEGIN:STANDARD
TZOFFSETFROM:+0200
TZOFFSETTO:+0100
TZNAME:CET
DTSTART:20181028T010000
END:STANDARD
BEGIN:DAYLIGHT
TZOFFSETFROM:+0100
TZOFFSETTO:+0200
TZNAME:CEST
DTSTART:20190331T010000
END:DAYLIGHT
BEGIN:STANDARD
TZOFFSETFROM:+0200
TZOFFSETTO:+0100
TZNAME:CET
DTSTART:20191027T010000
END:STANDARD
BEGIN:DAYLIGHT
TZOFFSETFROM:+0100
TZOFFSETTO:+0200
TZNAME:CEST
DTSTART:20200329T010000
END:DAYLIGHT
BEGIN:STANDARD
TZOFFSETFROM:+0200
TZOFFSETTO:+0100
TZNAME:CET
DTSTART:20201025T010000
END:STANDARD
END:VTIMEZONE
BEGIN:VEVENT
DTSTART;TZID=Europe/Paris:20190528T110000
DTEND;TZID=Europe/Paris:20190929T210000
DTSTAMP:20260424T130236
CREATED:20190525T214252Z
LAST-MODIFIED:20190906T173657Z
UID:8212-1559041200-1569790800@actu.art
SUMMARY:Félix Fénéon (1861 - 1944)
DESCRIPTION:Les musées d’Orsay et de l’Orangerie\, le musée du quai Branly – Jacques Chirac et The Museum of Modern Art\, New York\, rendent pour la première fois hommage à Félix Fénéon (1861-1944)\, acteur majeur du monde artistique de la fin du XIXe siècle et du tournant du XXe siècle. Anarchiste\, directeur de revues\, marchand d’art\, prodigieux collectionneur\, Fénéon a défendu une vision décloisonnée de la création au moment du basculement de l’art vers la modernité et œuvré pour la reconnaissance des arts extra-occidentaux. \nAuteur en 1920 du vibrant plaidoyer « Seront-ils admis au Louvre ? »\, il interroge\, dans un article qui deviendra l’un des textes fondateurs du musée du quai Branly – Jacques Chirac\, le statut des « arts lointains »\, soixante-dix ans avant le manifeste de Jacques Kerchache. Un engagement qui va de pair avec le développement d’une extraordinaire collection personnelle où figure\, auprès de toiles de ses amis Seurat\, Vuillard\, Toulouse-Lautrec\, Braque\, Matisse ou Modigliani\, l’un des plus importants ensembles d’arts d’Afrique et d’Océanie de l’époque – comptant en son sein la statue Fang Mabea. Voici une collection de référence\, dont le rayonnement mondial et l’influence sur l’avant-garde artistique des années 30 ne sont plus à démontrer.
URL:https://actu.art/event/felix-feneon-1861-1944/
LOCATION:Musée Quai Branly-Jacques Chirac\, 37 Quai Branly\, Paris\, Paris\, 75007\, France
CATEGORIES:Notre Sélection
ATTACH;FMTTYPE=image/jpeg:https://actu.art/wp-content/uploads/2019/05/affiche-felix-feneon.jpg
GEO:48.8608889;2.297894
X-APPLE-STRUCTURED-LOCATION;VALUE=URI;X-ADDRESS=Musée Quai Branly-Jacques Chirac 37 Quai Branly Paris Paris 75007 France;X-APPLE-RADIUS=500;X-TITLE=37 Quai Branly:geo:2.297894,48.8608889
END:VEVENT
END:VCALENDAR