BEGIN:VCALENDAR
VERSION:2.0
PRODID:-//Actu.Art - ECPv6.15.13//NONSGML v1.0//EN
CALSCALE:GREGORIAN
METHOD:PUBLISH
X-WR-CALNAME:Actu.Art
X-ORIGINAL-URL:https://actu.art
X-WR-CALDESC:Évènements pour Actu.Art
BEGIN:VTIMEZONE
TZID:Europe/Paris
BEGIN:DAYLIGHT
TZOFFSETFROM:+0100
TZOFFSETTO:+0200
TZNAME:CEST
DTSTART:20220327T010000
END:DAYLIGHT
BEGIN:STANDARD
TZOFFSETFROM:+0200
TZOFFSETTO:+0100
TZNAME:CET
DTSTART:20221030T010000
END:STANDARD
BEGIN:DAYLIGHT
TZOFFSETFROM:+0100
TZOFFSETTO:+0200
TZNAME:CEST
DTSTART:20230326T010000
END:DAYLIGHT
BEGIN:STANDARD
TZOFFSETFROM:+0200
TZOFFSETTO:+0100
TZNAME:CET
DTSTART:20231029T010000
END:STANDARD
BEGIN:DAYLIGHT
TZOFFSETFROM:+0100
TZOFFSETTO:+0200
TZNAME:CEST
DTSTART:20240331T010000
END:DAYLIGHT
BEGIN:STANDARD
TZOFFSETFROM:+0200
TZOFFSETTO:+0100
TZNAME:CET
DTSTART:20241027T010000
END:STANDARD
END:VTIMEZONE
BEGIN:VEVENT
DTSTART;TZID=Europe/Paris:20230131T103000
DTEND;TZID=Europe/Paris:20230701T180000
DTSTAMP:20260422T191326
CREATED:20230101T153316Z
LAST-MODIFIED:20230616T202737Z
UID:53862-1675161000-1688234400@actu.art
SUMMARY:Faith Ringgold
DESCRIPTION:Cette exposition réunit pour la première fois en France un ensemble d’œuvres majeures de Faith Ringgold\, artiste afro-américaine\, née en 1930 à Harlem. Elle prolonge la rétrospective que lui a consacré le New Museum à New-York au début de l’année 2022 et est organisée en collaboration avec l’ institution américaine. Faith Ringgold est une artiste aux multiples facettes connue à la fois en tant que peintre\, sculptrice ou autrice de livres pour enfants.
URL:https://actu.art/event/faith-ringgold/
LOCATION:Musée Picasso\, Hôtel Salé - 5\, rue Thorigny\, Paris\, Paris\, 75003\, France
CATEGORIES:Notre Sélection
ATTACH;FMTTYPE=image/jpeg:https://actu.art/wp-content/uploads/2023/01/Faith_Ringgold.jpg
GEO:48.8598774;2.3622849
X-APPLE-STRUCTURED-LOCATION;VALUE=URI;X-ADDRESS=Musée Picasso Hôtel Salé - 5 rue Thorigny Paris Paris 75003 France;X-APPLE-RADIUS=500;X-TITLE=Hôtel Salé - 5\, rue Thorigny:geo:2.3622849,48.8598774
END:VEVENT
END:VCALENDAR