BEGIN:VCALENDAR
VERSION:2.0
PRODID:-//Actu.Art - ECPv6.15.13//NONSGML v1.0//EN
CALSCALE:GREGORIAN
METHOD:PUBLISH
X-WR-CALNAME:Actu.Art
X-ORIGINAL-URL:https://actu.art
X-WR-CALDESC:Évènements pour Actu.Art
BEGIN:VTIMEZONE
TZID:Europe/Paris
BEGIN:DAYLIGHT
TZOFFSETFROM:+0100
TZOFFSETTO:+0200
TZNAME:CEST
DTSTART:20240331T010000
END:DAYLIGHT
BEGIN:STANDARD
TZOFFSETFROM:+0200
TZOFFSETTO:+0100
TZNAME:CET
DTSTART:20241027T010000
END:STANDARD
BEGIN:DAYLIGHT
TZOFFSETFROM:+0100
TZOFFSETTO:+0200
TZNAME:CEST
DTSTART:20250330T010000
END:DAYLIGHT
BEGIN:STANDARD
TZOFFSETFROM:+0200
TZOFFSETTO:+0100
TZNAME:CET
DTSTART:20251026T010000
END:STANDARD
BEGIN:DAYLIGHT
TZOFFSETFROM:+0100
TZOFFSETTO:+0200
TZNAME:CEST
DTSTART:20260329T010000
END:DAYLIGHT
BEGIN:STANDARD
TZOFFSETFROM:+0200
TZOFFSETTO:+0100
TZNAME:CET
DTSTART:20261025T010000
END:STANDARD
END:VTIMEZONE
BEGIN:VEVENT
DTSTART;TZID=Europe/Paris:20250411T140000
DTEND;TZID=Europe/Paris:20250927T190000
DTSTAMP:20260419T144335
CREATED:20250416T180132Z
LAST-MODIFIED:20250416T180132Z
UID:114873-1744380000-1758999600@actu.art
SUMMARY:Faire impression : Quand l’affiche de cinema s’invente
DESCRIPTION:L’affiche de cinéma demeure aujourd’hui encore l’une des armatures principales de la publicité du film\, c’est l’un des visuels qui amène le public à l’écran\, une image destinée à convoyer la première impression. \nL’attrape-rêves \nMais comment fit-elle son apparition ? Les plus anciennes connues invitent le spectateur à découvrir le Cinématographe Lumière en 1896. Spectaculaire\, l’une d’elle illustre une projection\, dans la lignée des affiches visant à présenter un spectacle visuel. Mais si les pères du Cinématographe ont privilégié sur leurs affiches ce nouveau divertissement\, Pathé\, le premier\, fera dès 1902 la promotion des films\, reprenant à son compte quelques principes adoptés par les Lumière : un grand format et une illustration. Ainsi naît l’affiche de film. \nPrésentées dans les foires\, puis dans les premières salles sédentaires\, les affiches sont conçues comme de grands tableaux\, qu’il est parfois difficile de placer en façade. Elles visent à attirer le passant et à l’entraîner à l’intérieur de la salle : elles s’appuient tantôt sur des histoires connues de tous\, comme les contes\, ou promettent tantôt du sensationnel et de l’exotisme quand il s’agit de films à trucs et de films de voyage. Elles installent les scènes historiques par des décors et des costumes\, et suscitent la fascination quand ils promettent les étoiles ou les toits de Paris. D’autres provoquent le rire. \nAffichistes et artistes \nEntre 1902 et 1911\, Pathé fait appel avec constance à Cândido de Faria\, un illustrateur brésilien installé à Paris\, spécialisé dans les affiches de music-hall. Après son décès\, la société confie à Adrien Barrère la production de nombreuses affiches pour des films comiques. Mais les affiches Pathé sont signées aussi par d’autres illustrateurs : Daniel de Losques\, Raphaël Freida\, Maurice Neumont\, Maxime Dethomas\, Vincent Lorant-Heilbronn\, Maurice Mahut\, Misti\, Benjamin Rabier\, Raymond Tournon\, les Clérice\, etc. Deux femmes au moins\, Berthe Faria et Éleonore Marche\, participent à ces productions comme illustratrices ou en supervisant un atelier. \nCes jeunes artistes sont aussi peintres et illustrateurs pour la presse\, et se sont lancés dans la publicité. Qu’ils soient caricaturistes\, dessinateurs pour la jeunesse ou la mode\, ils font battre le cœur d’un Paris moderne\, où l’affiche a gagné sa place et occupe les murs de la ville. \nPlace aux vedettes ! \nDans un espace public conquis par la réclame\, l’affiche de cinéma doit trouver sa place. Elle s’accroche d’abord à une ville périphérique\, celle des foires\, qui sont le lieu de monstration des inventions inédites\, tel que les projections de films. Elle s’installe plus tard sur la façade des premiers cinémas. A l’aube de la guerre\, elle accompagne les transformations d’une attraction que l’on nommera bientôt le 7e art\, et la montée des vedettes françaises et américaine – Max Linder\, Pearl White ou Mistinguett. Elle se décline au rythme du succès que rencontre le film à épisodes. \nLes fleurons de l’Avant-garde \nLa période qui suit la Première Guerre mondiale constitue une rupture dans les arts visuels. L’affiche\, qui a débuté sa mutation avant 1914\, connaît une nouvelle révolution graphique\, et n’y fera pas exception. Le Paris des années folles profitera au cinéma comme à sa promotion\, laquelle s’appuie sur la ruche des artistes peintres qui affluent du monde entier dans la capitale des arts. L’affiche\, suivant en cela les mouvements picturaux\, généralise les aplats de couleur\, les gros plans\, les lettrages élaborés qui prendront une importance prépondérante. Les signatures comptent des représentants de l’avant-garde russe comme Boris Bilinsky\, ou de jeunes talents français comme Bernard Lancy. Fernand Léger\, à la frontière des deux arts\, peinture et cinéma\, est sans conteste celui qui cristallise le mieux ce nouveau monde.  \nOutil de promotion\, l’affiche est aussi un support de création. Reflet des courants artistiques comme l’Art nouveau et le fauvisme\, elle voit\, au cours des décennies\, ses créateurs s’interroger sur sa place dans l’espace urbain\, et par-là même\, sur son impact sur le promeneur. L’affiche\, quel que soit son format\, doit subjuguer comme elle doit stupéfier. C’est à cette promenade aux frontières du rêve qu’invite la cinquantaine d’affiches issue des collections de la Fondation Jérôme Seydoux-Pathé et de collections privées. Miroir d’un monde qui témoigne de la naissance du cinéma\, elles sont accompagnées de photographies et d’images filmées provenant du musée Albert Khan\, des dessins de la Bibliothèque des littératures policières\, de documents promotionnels et d’extraits des films dont elles font la promotion.
URL:https://actu.art/event/faire-impression-quand-laffiche-de-cinema-sinvente/
LOCATION:Fondation Jérôme Seydoux-Pathé\, 73 av. des Gobelins\, Paris\, Paris\, 75013\, France
CATEGORIES:Expositions
ATTACH;FMTTYPE=image/jpeg:https://actu.art/wp-content/uploads/2025/04/Faire_impression_Quand_l_affiche_de_cinema_s_invente.jpg
GEO:48.8334986;2.3549119
X-APPLE-STRUCTURED-LOCATION;VALUE=URI;X-ADDRESS=Fondation Jérôme Seydoux-Pathé 73 av. des Gobelins Paris Paris 75013 France;X-APPLE-RADIUS=500;X-TITLE=73 av. des Gobelins:geo:2.3549119,48.8334986
END:VEVENT
END:VCALENDAR