BEGIN:VCALENDAR
VERSION:2.0
PRODID:-//Actu.Art - ECPv6.15.13//NONSGML v1.0//EN
CALSCALE:GREGORIAN
METHOD:PUBLISH
X-WR-CALNAME:Actu.Art
X-ORIGINAL-URL:https://actu.art
X-WR-CALDESC:Évènements pour Actu.Art
BEGIN:VTIMEZONE
TZID:Europe/Paris
BEGIN:DAYLIGHT
TZOFFSETFROM:+0100
TZOFFSETTO:+0200
TZNAME:CEST
DTSTART:20230326T010000
END:DAYLIGHT
BEGIN:STANDARD
TZOFFSETFROM:+0200
TZOFFSETTO:+0100
TZNAME:CET
DTSTART:20231029T010000
END:STANDARD
BEGIN:DAYLIGHT
TZOFFSETFROM:+0100
TZOFFSETTO:+0200
TZNAME:CEST
DTSTART:20240331T010000
END:DAYLIGHT
BEGIN:STANDARD
TZOFFSETFROM:+0200
TZOFFSETTO:+0100
TZNAME:CET
DTSTART:20241027T010000
END:STANDARD
BEGIN:DAYLIGHT
TZOFFSETFROM:+0100
TZOFFSETTO:+0200
TZNAME:CEST
DTSTART:20250330T010000
END:DAYLIGHT
BEGIN:STANDARD
TZOFFSETFROM:+0200
TZOFFSETTO:+0100
TZNAME:CET
DTSTART:20251026T010000
END:STANDARD
END:VTIMEZONE
BEGIN:VEVENT
DTSTART;TZID=Europe/Paris:20240519T000000
DTEND;TZID=Europe/Paris:20241103T235900
DTSTAMP:20260425T184405
CREATED:20240718T153208Z
LAST-MODIFIED:20240718T213226Z
UID:94033-1716076800-1730678340@actu.art
SUMMARY:Faire corps
DESCRIPTION:L’exposition d’art contemporain actuellement présentée à la Villa Datris à L’Isle sur la Sorgue du 19 mai au 3 novembre 2024 offre une exploration fascinante sur le thème du corps. \n65 artistes\nLes 65 artistes émergents et/ou plus connus exposés ont utilisé une variété de médiums pour exprimer la diversité et la complexité de l’anatomie humaine\, ainsi que les émotions et les expériences qui lui sont associées. \nImmersion artistique : redécouvrir le corps\nLes visiteurs sont invités à contempler des œuvres qui célèbrent la beauté et la fragilité du corps tout en questionnant les normes sociales qui lui sont imposées.\nSculptures saisissantes\, peintures et installations interactives offrent un regard nouveau sur notre relation avec notre propre corps et celui des autres.\nCette exposition captivante est une occasion unique de réfléchir sur notre corps en particulier et de découvrir des perspectives artistiques innovantes sur ce thème intemporel.  \nEn somme\, l’exposition sur le thème du corps à la Fondation Villa Datris est une expérience artistique riche et immersive\, qui invite le spectateur à repenser sa vision du corps et de sa représentation dans l’art contemporain. Une occasion unique de découvrir des œuvres audacieuses et inspirantes\, qui révèlent toute la complexité et la diversité de l’expression artistique autour de cette thématique universelle.\nNe manquez pas cette immersion artistique qui vous invite à explorer la richesse et la diversité de l’expression corporelle dans l’art contemporain.
URL:https://actu.art/event/faire-corps/
LOCATION:Villa Datris – Fondation pour la Sculpture Contemporaine\, 7 avenue des Quatre Otages\, L'Isle-sur-la-Sorgue\, Vaucluse\, 84800\, France
CATEGORIES:Expositions
ATTACH;FMTTYPE=image/webp:https://actu.art/wp-content/uploads/2024/07/Faire_corps.webp
GEO:43.9185435;5.054698
X-APPLE-STRUCTURED-LOCATION;VALUE=URI;X-ADDRESS=Villa Datris – Fondation pour la Sculpture Contemporaine 7 avenue des Quatre Otages L'Isle-sur-la-Sorgue Vaucluse 84800 France;X-APPLE-RADIUS=500;X-TITLE=7 avenue des Quatre Otages:geo:5.054698,43.9185435
END:VEVENT
END:VCALENDAR