BEGIN:VCALENDAR
VERSION:2.0
PRODID:-//Actu.Art - ECPv6.15.13//NONSGML v1.0//EN
CALSCALE:GREGORIAN
METHOD:PUBLISH
X-WR-CALNAME:Actu.Art
X-ORIGINAL-URL:https://actu.art
X-WR-CALDESC:Évènements pour Actu.Art
BEGIN:VTIMEZONE
TZID:Europe/Paris
BEGIN:DAYLIGHT
TZOFFSETFROM:+0100
TZOFFSETTO:+0200
TZNAME:CEST
DTSTART:20230326T010000
END:DAYLIGHT
BEGIN:STANDARD
TZOFFSETFROM:+0200
TZOFFSETTO:+0100
TZNAME:CET
DTSTART:20231029T010000
END:STANDARD
BEGIN:DAYLIGHT
TZOFFSETFROM:+0100
TZOFFSETTO:+0200
TZNAME:CEST
DTSTART:20240331T010000
END:DAYLIGHT
BEGIN:STANDARD
TZOFFSETFROM:+0200
TZOFFSETTO:+0100
TZNAME:CET
DTSTART:20241027T010000
END:STANDARD
BEGIN:DAYLIGHT
TZOFFSETFROM:+0100
TZOFFSETTO:+0200
TZNAME:CEST
DTSTART:20250330T010000
END:DAYLIGHT
BEGIN:STANDARD
TZOFFSETFROM:+0200
TZOFFSETTO:+0100
TZNAME:CET
DTSTART:20251026T010000
END:STANDARD
BEGIN:DAYLIGHT
TZOFFSETFROM:+0100
TZOFFSETTO:+0200
TZNAME:CEST
DTSTART:20260329T010000
END:DAYLIGHT
BEGIN:STANDARD
TZOFFSETFROM:+0200
TZOFFSETTO:+0100
TZNAME:CET
DTSTART:20261025T010000
END:STANDARD
END:VTIMEZONE
BEGIN:VEVENT
DTSTART;VALUE=DATE:20240127
DTEND;VALUE=DATE:20250106
DTSTAMP:20260422T114559
CREATED:20240125T024348Z
LAST-MODIFIED:20240315T123329Z
UID:77166-1706313600-1736121540@actu.art
SUMMARY:Expositions ventes Artisanat d’Art
DESCRIPTION:Au cœur du beau village de la Ferté-Loupière\, l’association Acanthe soutient et accueille les artistes. Toute l’année\, elle présente leurs œuvres dans la boutique et la galerie de l’espace Acanthe. Pendant les mois d’été\, deux grandes expositions sont proposées dans ce lieu exceptionnel qu’est la Grange du Prieuré. Tout proche\, l’Atelier du Photographe est\, quant à lui\, consacré à la photo contemporaine.\nEspace Acanthe :\nDu 27 janvier au 25 février\, Odile Alliet\, aquareliste\, graveuse. Du 1 au 31 mars\, Frédéric Couraillon\, peintre. Du 6 avril au 5 mai\, Olivier Salou\, peintre. Du 11 mai au 9 juin\, Nicole Gaulier et Nicole Crestou\, peintre\, céramiste. Du 15 juin au 14 juillet\, Isabelle Canus\, peintre. Du 20 juillet au 18 août\, Wabe\, sculptrice. Du 24 août au 22 septembre\, Berfa\, peintre et Fanou\, sculptrice. Du 28 septembre au 27 octobre\, Marie-Pierre Sinibaldi et Christine Boudin. Du 30 novembre au 5 janvier Exposition-vente de Noël. Ateliers d’Acanthe : 2 et 24 novembre\, Bronze\, Terre. D\nLe Prieuré : Salon d’été : Du 22 juin au 28 juillet\, Valérie Buffetaud\, peintre. Du 3 août au 15 septembre\, Jean-Marc Brunet\, peintre. A l’atelier du Photgraphe : Du 22 juin au 28 juillet\, Eric Bonnenfant. Du 3 août au 15 Septembre\, Moritz Holfelder. Les vernissages ont lieu en présence des artistes\, généralement le premier samedi d’exposition\, à partir de 15 heures.
URL:https://actu.art/event/expositions-ventes-artisanat-dart/
LOCATION:Espace Acanthe et/ou le Prieuré\, La Ferté-Loupière\, Yonne\, 89110\, France
CATEGORIES:Expositions
GEO:47.897497;3.234247
END:VEVENT
END:VCALENDAR