BEGIN:VCALENDAR
VERSION:2.0
PRODID:-//Actu.Art - ECPv6.15.13//NONSGML v1.0//EN
CALSCALE:GREGORIAN
METHOD:PUBLISH
X-WR-CALNAME:Actu.Art
X-ORIGINAL-URL:https://actu.art
X-WR-CALDESC:Évènements pour Actu.Art
BEGIN:VTIMEZONE
TZID:Europe/Paris
BEGIN:DAYLIGHT
TZOFFSETFROM:+0100
TZOFFSETTO:+0200
TZNAME:CEST
DTSTART:20240331T010000
END:DAYLIGHT
BEGIN:STANDARD
TZOFFSETFROM:+0200
TZOFFSETTO:+0100
TZNAME:CET
DTSTART:20241027T010000
END:STANDARD
BEGIN:DAYLIGHT
TZOFFSETFROM:+0100
TZOFFSETTO:+0200
TZNAME:CEST
DTSTART:20250330T010000
END:DAYLIGHT
BEGIN:STANDARD
TZOFFSETFROM:+0200
TZOFFSETTO:+0100
TZNAME:CET
DTSTART:20251026T010000
END:STANDARD
BEGIN:DAYLIGHT
TZOFFSETFROM:+0100
TZOFFSETTO:+0200
TZNAME:CEST
DTSTART:20260329T010000
END:DAYLIGHT
BEGIN:STANDARD
TZOFFSETFROM:+0200
TZOFFSETTO:+0100
TZNAME:CET
DTSTART:20261025T010000
END:STANDARD
END:VTIMEZONE
BEGIN:VEVENT
DTSTART;TZID=Europe/Paris:20250601T150000
DTEND;TZID=Europe/Paris:20250630T180000
DTSTAMP:20260422T132605
CREATED:20250622T210628Z
LAST-MODIFIED:20250622T210628Z
UID:121768-1748790000-1751306400@actu.art
SUMMARY:EXPOSITIONS - LES ATELIERS FERLUS
DESCRIPTION:Venez admirer l’exposition à l’Atelier Ferlus !
URL:https://actu.art/event/expositions-les-ateliers-ferlus/
LOCATION:Ateliers Ferlus\, 1 Rue Ferlus\, Sorèze\, Tarn\, 81540\, France
CATEGORIES:Expositions
ATTACH;FMTTYPE=image/jpeg:https://actu.art/wp-content/uploads/2025/06/EXPOSITIONS_LES_ATELIERS_FERLUS.jpg
GEO:43.4529513;2.0665829
X-APPLE-STRUCTURED-LOCATION;VALUE=URI;X-ADDRESS=Ateliers Ferlus 1 Rue Ferlus Sorèze Tarn 81540 France;X-APPLE-RADIUS=500;X-TITLE=1 Rue Ferlus:geo:2.0665829,43.4529513
END:VEVENT
END:VCALENDAR