BEGIN:VCALENDAR
VERSION:2.0
PRODID:-//Actu.Art - ECPv6.15.13//NONSGML v1.0//EN
CALSCALE:GREGORIAN
METHOD:PUBLISH
X-WR-CALNAME:Actu.Art
X-ORIGINAL-URL:https://actu.art
X-WR-CALDESC:Évènements pour Actu.Art
BEGIN:VTIMEZONE
TZID:Europe/Paris
BEGIN:DAYLIGHT
TZOFFSETFROM:+0100
TZOFFSETTO:+0200
TZNAME:CEST
DTSTART:20250330T010000
END:DAYLIGHT
BEGIN:STANDARD
TZOFFSETFROM:+0200
TZOFFSETTO:+0100
TZNAME:CET
DTSTART:20251026T010000
END:STANDARD
BEGIN:DAYLIGHT
TZOFFSETFROM:+0100
TZOFFSETTO:+0200
TZNAME:CEST
DTSTART:20260329T010000
END:DAYLIGHT
BEGIN:STANDARD
TZOFFSETFROM:+0200
TZOFFSETTO:+0100
TZNAME:CET
DTSTART:20261025T010000
END:STANDARD
BEGIN:DAYLIGHT
TZOFFSETFROM:+0100
TZOFFSETTO:+0200
TZNAME:CEST
DTSTART:20270328T010000
END:DAYLIGHT
BEGIN:STANDARD
TZOFFSETFROM:+0200
TZOFFSETTO:+0100
TZNAME:CET
DTSTART:20271031T010000
END:STANDARD
END:VTIMEZONE
BEGIN:VEVENT
DTSTART;VALUE=DATE:20260207
DTEND;VALUE=DATE:20260208
DTSTAMP:20260422T032556
CREATED:20260206T125516Z
LAST-MODIFIED:20260206T125516Z
UID:137856-1770422400-1770508799@actu.art
SUMMARY:Exposition & Vernissage de Daniele Delbreil
DESCRIPTION:« J’ai commencé à peindre (en autodidacte) en 1985\, et pas mal exposé depuis. J’ai utilisé un support très lisse d’une toile marouflée sur bois\, enduite et poncée. Je peins à l’huile\, en couches très fines\, des paysages imaginaires\, des portraits\, des natures mortes\, des mises en scène entre mélancolie et ironie. Je tente de rendre la texture des objets et des fruits\, la chair des corps\, tout en les inscrivant dans un imaginaire plutôt surréaliste.\nJ’ai récemment opté pour une peinture sur pierre\, qui ne se prête pas à une exposition au café\, mais que je vous invite à venir voir au Moulin de Montlauzin. Par ailleurs\, j’ai souhaité faire sortir de clandestinité quelques dessins de mon compagnon\, Jean-Paul Malrieu. »
URL:https://actu.art/event/exposition-vernissage-de-daniele-delbreil/
LOCATION:Café du Burgaud\, 23 Pl. de la Halle\, Le Burgaud\, Haute-Garonne\, 31330
CATEGORIES:Expositions
GEO:43.7950874;1.1620989
X-APPLE-STRUCTURED-LOCATION;VALUE=URI;X-ADDRESS=Café du Burgaud 23 Pl. de la Halle Le Burgaud Haute-Garonne 31330;X-APPLE-RADIUS=500;X-TITLE=23 Pl. de la Halle:geo:1.1620989,43.7950874
END:VEVENT
END:VCALENDAR