BEGIN:VCALENDAR
VERSION:2.0
PRODID:-//Actu.Art - ECPv6.15.13//NONSGML v1.0//EN
CALSCALE:GREGORIAN
METHOD:PUBLISH
X-WR-CALNAME:Actu.Art
X-ORIGINAL-URL:https://actu.art
X-WR-CALDESC:Évènements pour Actu.Art
BEGIN:VTIMEZONE
TZID:Europe/Paris
BEGIN:DAYLIGHT
TZOFFSETFROM:+0100
TZOFFSETTO:+0200
TZNAME:CEST
DTSTART:20240331T010000
END:DAYLIGHT
BEGIN:STANDARD
TZOFFSETFROM:+0200
TZOFFSETTO:+0100
TZNAME:CET
DTSTART:20241027T010000
END:STANDARD
BEGIN:DAYLIGHT
TZOFFSETFROM:+0100
TZOFFSETTO:+0200
TZNAME:CEST
DTSTART:20250330T010000
END:DAYLIGHT
BEGIN:STANDARD
TZOFFSETFROM:+0200
TZOFFSETTO:+0100
TZNAME:CET
DTSTART:20251026T010000
END:STANDARD
BEGIN:DAYLIGHT
TZOFFSETFROM:+0100
TZOFFSETTO:+0200
TZNAME:CEST
DTSTART:20260329T010000
END:DAYLIGHT
BEGIN:STANDARD
TZOFFSETFROM:+0200
TZOFFSETTO:+0100
TZNAME:CET
DTSTART:20261025T010000
END:STANDARD
END:VTIMEZONE
BEGIN:VEVENT
DTSTART;VALUE=DATE:20250701
DTEND;VALUE=DATE:20250802
DTSTAMP:20260420T133015
CREATED:20250801T142139Z
LAST-MODIFIED:20250801T142139Z
UID:125397-1751328000-1754092799@actu.art
SUMMARY:Exposition — Timmy Willy – Art du Bois
DESCRIPTION:Réunissant illustrations\, peintures et gravures s’intégrant sur divers supports en bois\, Timmy livre un travail minutieux et épuré où se confondent poésie et inventivité.\nLes oeuvres sont déclinées sur plusieurs séries atypiques\, divulguant des émotions diverses qui traversent des histoires singulières et universelles empreintes de libertés\, de mystères et de philosophies.\nArtiste officiellement déclaré à la Maison des Artistes\, il participe à de nombreux projets et expositions en sillonnant la France et collabore aussi à l’étranger.
URL:https://actu.art/event/exposition-timmy-willy-art-du-bois/
LOCATION:Office de Tourisme du Pays de Lunel\, 16 Cours Gabriel Péri\, Lunel\, Hérault\, 34400\, France
CATEGORIES:Expositions
ATTACH;FMTTYPE=image/jpeg:https://actu.art/wp-content/uploads/2025/08/Exposition_Timmy_Willy_Art_du_Bois.jpg
GEO:43.674731;4.134209
X-APPLE-STRUCTURED-LOCATION;VALUE=URI;X-ADDRESS=Office de Tourisme du Pays de Lunel 16 Cours Gabriel Péri Lunel Hérault 34400 France;X-APPLE-RADIUS=500;X-TITLE=16 Cours Gabriel Péri:geo:4.134209,43.674731
END:VEVENT
END:VCALENDAR