BEGIN:VCALENDAR
VERSION:2.0
PRODID:-//Actu.Art - ECPv6.15.13//NONSGML v1.0//EN
CALSCALE:GREGORIAN
METHOD:PUBLISH
X-WR-CALNAME:Actu.Art
X-ORIGINAL-URL:https://actu.art
X-WR-CALDESC:Évènements pour Actu.Art
BEGIN:VTIMEZONE
TZID:Europe/Paris
BEGIN:DAYLIGHT
TZOFFSETFROM:+0100
TZOFFSETTO:+0200
TZNAME:CEST
DTSTART:20230326T010000
END:DAYLIGHT
BEGIN:STANDARD
TZOFFSETFROM:+0200
TZOFFSETTO:+0100
TZNAME:CET
DTSTART:20231029T010000
END:STANDARD
BEGIN:DAYLIGHT
TZOFFSETFROM:+0100
TZOFFSETTO:+0200
TZNAME:CEST
DTSTART:20240331T010000
END:DAYLIGHT
BEGIN:STANDARD
TZOFFSETFROM:+0200
TZOFFSETTO:+0100
TZNAME:CET
DTSTART:20241027T010000
END:STANDARD
BEGIN:DAYLIGHT
TZOFFSETFROM:+0100
TZOFFSETTO:+0200
TZNAME:CEST
DTSTART:20250330T010000
END:DAYLIGHT
BEGIN:STANDARD
TZOFFSETFROM:+0200
TZOFFSETTO:+0100
TZNAME:CET
DTSTART:20251026T010000
END:STANDARD
END:VTIMEZONE
BEGIN:VEVENT
DTSTART;TZID=Europe/Paris:20240918T140000
DTEND;TZID=Europe/Paris:20241103T183000
DTSTAMP:20260424T004434
CREATED:20241016T183827Z
LAST-MODIFIED:20241016T183827Z
UID:100680-1726668000-1730658600@actu.art
SUMMARY:EXPOSITION SYLVAIN LANG
DESCRIPTION:Exposition des peintures de Sylvain Lang.
URL:https://actu.art/event/exposition-sylvain-lang/
LOCATION:Château Madame de Graffigny\, Rue Albert 1er\, Villers-lès-Nancy\, Meurthe-et-Moselle\, 54600\, France
CATEGORIES:Expositions Galeries
ATTACH;FMTTYPE=image/jpeg:https://actu.art/wp-content/uploads/2024/10/EXPOSITION_SYLVAIN_LANG.jpg
GEO:48.6703496;6.1467255
X-APPLE-STRUCTURED-LOCATION;VALUE=URI;X-ADDRESS=Château Madame de Graffigny Rue Albert 1er Villers-lès-Nancy Meurthe-et-Moselle 54600 France;X-APPLE-RADIUS=500;X-TITLE=Rue Albert 1er:geo:6.1467255,48.6703496
END:VEVENT
END:VCALENDAR