BEGIN:VCALENDAR
VERSION:2.0
PRODID:-//Actu.Art - ECPv6.15.13//NONSGML v1.0//EN
CALSCALE:GREGORIAN
METHOD:PUBLISH
X-WR-CALNAME:Actu.Art
X-ORIGINAL-URL:https://actu.art
X-WR-CALDESC:Évènements pour Actu.Art
BEGIN:VTIMEZONE
TZID:Europe/Paris
BEGIN:DAYLIGHT
TZOFFSETFROM:+0100
TZOFFSETTO:+0200
TZNAME:CEST
DTSTART:20250330T010000
END:DAYLIGHT
BEGIN:STANDARD
TZOFFSETFROM:+0200
TZOFFSETTO:+0100
TZNAME:CET
DTSTART:20251026T010000
END:STANDARD
BEGIN:DAYLIGHT
TZOFFSETFROM:+0100
TZOFFSETTO:+0200
TZNAME:CEST
DTSTART:20260329T010000
END:DAYLIGHT
BEGIN:STANDARD
TZOFFSETFROM:+0200
TZOFFSETTO:+0100
TZNAME:CET
DTSTART:20261025T010000
END:STANDARD
BEGIN:DAYLIGHT
TZOFFSETFROM:+0100
TZOFFSETTO:+0200
TZNAME:CEST
DTSTART:20270328T010000
END:DAYLIGHT
BEGIN:STANDARD
TZOFFSETFROM:+0200
TZOFFSETTO:+0100
TZNAME:CET
DTSTART:20271031T010000
END:STANDARD
END:VTIMEZONE
BEGIN:VEVENT
DTSTART;VALUE=DATE:20260506
DTEND;VALUE=DATE:20260627
DTSTAMP:20260421T121902
CREATED:20260416T062449Z
LAST-MODIFIED:20260416T062449Z
UID:143330-1778025600-1782518399@actu.art
SUMMARY:EXPOSITION ST-CYP’ART JOA CASINO
DESCRIPTION:Du mercredi 06 mai au 26 juin 2026. Salle du restaurant du Casino JOA de Saint-Cyprien – ouvert 7 jours sur 7\, de 12h à 14h et de 19h30 à 21h30 > Exposition St-Cyp’Art au détour des œuvres  de Christian Duthuillé.  \nMercredi 06 mai 2026 à 18h > Verni…
URL:https://actu.art/event/exposition-st-cypart-joa-casino/
LOCATION:JOA Casino\, 700 Quai Arthur Rimbaud\, Saint-Cyprien\, Pyrénées-Orientales\, 66750
CATEGORIES:Événements Artistiques locaux
ATTACH;FMTTYPE=image/jpeg:https://actu.art/wp-content/uploads/2026/04/EXPOSITION_ST_CYP_ART_JOA_CASINO.jpg
END:VEVENT
END:VCALENDAR