BEGIN:VCALENDAR
VERSION:2.0
PRODID:-//Actu.Art - ECPv6.15.13//NONSGML v1.0//EN
CALSCALE:GREGORIAN
METHOD:PUBLISH
X-WR-CALNAME:Actu.Art
X-ORIGINAL-URL:https://actu.art
X-WR-CALDESC:Évènements pour Actu.Art
BEGIN:VTIMEZONE
TZID:Europe/Paris
BEGIN:DAYLIGHT
TZOFFSETFROM:+0100
TZOFFSETTO:+0200
TZNAME:CEST
DTSTART:20240331T010000
END:DAYLIGHT
BEGIN:STANDARD
TZOFFSETFROM:+0200
TZOFFSETTO:+0100
TZNAME:CET
DTSTART:20241027T010000
END:STANDARD
BEGIN:DAYLIGHT
TZOFFSETFROM:+0100
TZOFFSETTO:+0200
TZNAME:CEST
DTSTART:20250330T010000
END:DAYLIGHT
BEGIN:STANDARD
TZOFFSETFROM:+0200
TZOFFSETTO:+0100
TZNAME:CET
DTSTART:20251026T010000
END:STANDARD
BEGIN:DAYLIGHT
TZOFFSETFROM:+0100
TZOFFSETTO:+0200
TZNAME:CEST
DTSTART:20260329T010000
END:DAYLIGHT
BEGIN:STANDARD
TZOFFSETFROM:+0200
TZOFFSETTO:+0100
TZNAME:CET
DTSTART:20261025T010000
END:STANDARD
END:VTIMEZONE
BEGIN:VEVENT
DTSTART;VALUE=DATE:20250320
DTEND;VALUE=DATE:20250522
DTSTAMP:20260426T001443
CREATED:20250315T202759Z
LAST-MODIFIED:20250515T110413Z
UID:111852-1742428800-1747871999@actu.art
SUMMARY:Exposition « Somewhere\, It’s Still Summer » de Claire Guarry
DESCRIPTION:La Galerie Polka est heureuse de présenter sa nouvelle exposition “Somewhere\, It’s Still Summer” de Claire Guarry. \nVernissage le jeudi 23 janvier 2025 à partir de 18h\n12\, rue Saint-Gille\, Paris IIIe\n____________ \nAprès avoir voyagé à travers le monde et côtoyé différentes cultures\, Claire Guarry a posé ses valises à San Francisco. Dans cette ville qui est devenue la sienne\, elle documente le quotidien de ses enfants\, principaux sujets de ses clichés\, dans la douceur du soleil californien. A travers eux\, la photographe française originaire de Dordogne réussit à saisir la légèreté et la tranquillité de l’enfance. La simplicité d’une vie encore insouciante\, ponctuée de promenades\, de jeux et de contemplation. Cette première grande exposition lui permet d’amener à Paris le portrait lumineux d’une vie californienne.
URL:https://actu.art/event/exposition-somewhere-its-still-summer-de-claire-guarry/
LOCATION:Galerie Polka\, 12 rue St-Gilles\, Paris 3e\, Paris\, 75003\, France
CATEGORIES:Expositions Galeries
ATTACH;FMTTYPE=image/png:https://actu.art/wp-content/uploads/2025/03/Capture-decran-2025-03-13-a-16.47.09.png
GEO:48.8579001;2.3665004
X-APPLE-STRUCTURED-LOCATION;VALUE=URI;X-ADDRESS=Galerie Polka 12 rue St-Gilles Paris 3e Paris 75003 France;X-APPLE-RADIUS=500;X-TITLE=12 rue St-Gilles:geo:2.3665004,48.8579001
END:VEVENT
END:VCALENDAR