BEGIN:VCALENDAR
VERSION:2.0
PRODID:-//Actu.Art - ECPv6.15.13//NONSGML v1.0//EN
CALSCALE:GREGORIAN
METHOD:PUBLISH
X-WR-CALNAME:Actu.Art
X-ORIGINAL-URL:https://actu.art
X-WR-CALDESC:Évènements pour Actu.Art
BEGIN:VTIMEZONE
TZID:Europe/Paris
BEGIN:DAYLIGHT
TZOFFSETFROM:+0100
TZOFFSETTO:+0200
TZNAME:CEST
DTSTART:20240331T010000
END:DAYLIGHT
BEGIN:STANDARD
TZOFFSETFROM:+0200
TZOFFSETTO:+0100
TZNAME:CET
DTSTART:20241027T010000
END:STANDARD
BEGIN:DAYLIGHT
TZOFFSETFROM:+0100
TZOFFSETTO:+0200
TZNAME:CEST
DTSTART:20250330T010000
END:DAYLIGHT
BEGIN:STANDARD
TZOFFSETFROM:+0200
TZOFFSETTO:+0100
TZNAME:CET
DTSTART:20251026T010000
END:STANDARD
BEGIN:DAYLIGHT
TZOFFSETFROM:+0100
TZOFFSETTO:+0200
TZNAME:CEST
DTSTART:20260329T010000
END:DAYLIGHT
BEGIN:STANDARD
TZOFFSETFROM:+0200
TZOFFSETTO:+0100
TZNAME:CET
DTSTART:20261025T010000
END:STANDARD
END:VTIMEZONE
BEGIN:VEVENT
DTSTART;TZID=Europe/Paris:20250903T143000
DTEND;TZID=Europe/Paris:20250928T183000
DTSTAMP:20260421T105554
CREATED:20250908T154410Z
LAST-MODIFIED:20250908T154410Z
UID:127975-1756909800-1759084200@actu.art
SUMMARY:Exposition " Sensations "
DESCRIPTION:La Galerie des Charitains présente l’exposition « Sensations » du 3 au 28 septembre : peintures\, sculptures et maquettes de Gilles Barp\, Sandrine Valette\, Sylvie Fradier et Michel Pouzadoux. Entrée libre\, un voyage artistique à Ébreuil.
URL:https://actu.art/event/exposition-sensations/
LOCATION:Galerie des Charitains\, Place de l'Église\, Ébreuil\, Allier\, 03450\, France
CATEGORIES:Expositions Galeries
ATTACH;FMTTYPE=image/jpeg:https://actu.art/wp-content/uploads/2025/09/Exposition_Sensations_.jpg
GEO:46.1571632;3.0009663
X-APPLE-STRUCTURED-LOCATION;VALUE=URI;X-ADDRESS=Galerie des Charitains Place de l'Église Ébreuil Allier 03450 France;X-APPLE-RADIUS=500;X-TITLE=Place de l'Église:geo:3.0009663,46.1571632
END:VEVENT
END:VCALENDAR