BEGIN:VCALENDAR
VERSION:2.0
PRODID:-//Actu.Art - ECPv6.15.13//NONSGML v1.0//EN
CALSCALE:GREGORIAN
METHOD:PUBLISH
X-WR-CALNAME:Actu.Art
X-ORIGINAL-URL:https://actu.art
X-WR-CALDESC:Évènements pour Actu.Art
BEGIN:VTIMEZONE
TZID:Europe/Paris
BEGIN:DAYLIGHT
TZOFFSETFROM:+0100
TZOFFSETTO:+0200
TZNAME:CEST
DTSTART:20230326T010000
END:DAYLIGHT
BEGIN:STANDARD
TZOFFSETFROM:+0200
TZOFFSETTO:+0100
TZNAME:CET
DTSTART:20231029T010000
END:STANDARD
BEGIN:DAYLIGHT
TZOFFSETFROM:+0100
TZOFFSETTO:+0200
TZNAME:CEST
DTSTART:20240331T010000
END:DAYLIGHT
BEGIN:STANDARD
TZOFFSETFROM:+0200
TZOFFSETTO:+0100
TZNAME:CET
DTSTART:20241027T010000
END:STANDARD
BEGIN:DAYLIGHT
TZOFFSETFROM:+0100
TZOFFSETTO:+0200
TZNAME:CEST
DTSTART:20250330T010000
END:DAYLIGHT
BEGIN:STANDARD
TZOFFSETFROM:+0200
TZOFFSETTO:+0100
TZNAME:CET
DTSTART:20251026T010000
END:STANDARD
END:VTIMEZONE
BEGIN:VEVENT
DTSTART;TZID=Europe/Paris:20241101T090000
DTEND;TZID=Europe/Paris:20241201T180000
DTSTAMP:20260422T144542
CREATED:20240808T191558Z
LAST-MODIFIED:20240809T173645Z
UID:95870-1730451600-1733076000@actu.art
SUMMARY:Exposition – Sculptures de papier
DESCRIPTION:Découvrez les sculptures de Frédérique Wisson en papier froissé\, découpé\, plié …
URL:https://actu.art/event/exposition-sculptures-de-papier/
LOCATION:Médiathèque de la Vallée de Kaysersberg\, Avenue Georges Ferrenbach 2\, Kaysersberg\, Haut-Rhin\, 68240\, France
CATEGORIES:Expositions
ATTACH;FMTTYPE=image/webp:https://actu.art/wp-content/uploads/2024/08/Exposition_Sculptures_de_papier.webp
GEO:48.141284;7.258105
X-APPLE-STRUCTURED-LOCATION;VALUE=URI;X-ADDRESS=Médiathèque de la Vallée de Kaysersberg Avenue Georges Ferrenbach 2 Kaysersberg Haut-Rhin 68240 France;X-APPLE-RADIUS=500;X-TITLE=Avenue Georges Ferrenbach 2:geo:7.258105,48.141284
END:VEVENT
END:VCALENDAR