BEGIN:VCALENDAR
VERSION:2.0
PRODID:-//Actu.Art - ECPv6.15.13//NONSGML v1.0//EN
CALSCALE:GREGORIAN
METHOD:PUBLISH
X-WR-CALNAME:Actu.Art
X-ORIGINAL-URL:https://actu.art
X-WR-CALDESC:Évènements pour Actu.Art
BEGIN:VTIMEZONE
TZID:Europe/Paris
BEGIN:DAYLIGHT
TZOFFSETFROM:+0100
TZOFFSETTO:+0200
TZNAME:CEST
DTSTART:20240331T010000
END:DAYLIGHT
BEGIN:STANDARD
TZOFFSETFROM:+0200
TZOFFSETTO:+0100
TZNAME:CET
DTSTART:20241027T010000
END:STANDARD
BEGIN:DAYLIGHT
TZOFFSETFROM:+0100
TZOFFSETTO:+0200
TZNAME:CEST
DTSTART:20250330T010000
END:DAYLIGHT
BEGIN:STANDARD
TZOFFSETFROM:+0200
TZOFFSETTO:+0100
TZNAME:CET
DTSTART:20251026T010000
END:STANDARD
BEGIN:DAYLIGHT
TZOFFSETFROM:+0100
TZOFFSETTO:+0200
TZNAME:CEST
DTSTART:20260329T010000
END:DAYLIGHT
BEGIN:STANDARD
TZOFFSETFROM:+0200
TZOFFSETTO:+0100
TZNAME:CET
DTSTART:20261025T010000
END:STANDARD
END:VTIMEZONE
BEGIN:VEVENT
DTSTART;TZID=Europe/Paris:20250724T160000
DTEND;TZID=Europe/Paris:20250824T190000
DTSTAMP:20260422T184300
CREATED:20250616T184343Z
LAST-MODIFIED:20250616T184343Z
UID:121143-1753372800-1756062000@actu.art
SUMMARY:Exposition - Résonnance
DESCRIPTION:Un écho pictural entre matières et couleurs – Pastels\, peintures et céramiques.
URL:https://actu.art/event/exposition-resonnance/
LOCATION:L’Escapade\, Ruelle de la Voûte 24\, Luc-en-Diois\, Drôme\, 26310\, France
CATEGORIES:Expositions
GEO:44.614727;5.4523862
X-APPLE-STRUCTURED-LOCATION;VALUE=URI;X-ADDRESS=L’Escapade Ruelle de la Voûte 24 Luc-en-Diois Drôme 26310 France;X-APPLE-RADIUS=500;X-TITLE=Ruelle de la Voûte 24:geo:5.4523862,44.614727
END:VEVENT
END:VCALENDAR