BEGIN:VCALENDAR
VERSION:2.0
PRODID:-//Actu.Art - ECPv6.15.13//NONSGML v1.0//EN
CALSCALE:GREGORIAN
METHOD:PUBLISH
X-WR-CALNAME:Actu.Art
X-ORIGINAL-URL:https://actu.art
X-WR-CALDESC:Évènements pour Actu.Art
BEGIN:VTIMEZONE
TZID:Europe/Paris
BEGIN:DAYLIGHT
TZOFFSETFROM:+0100
TZOFFSETTO:+0200
TZNAME:CEST
DTSTART:20240331T010000
END:DAYLIGHT
BEGIN:STANDARD
TZOFFSETFROM:+0200
TZOFFSETTO:+0100
TZNAME:CET
DTSTART:20241027T010000
END:STANDARD
BEGIN:DAYLIGHT
TZOFFSETFROM:+0100
TZOFFSETTO:+0200
TZNAME:CEST
DTSTART:20250330T010000
END:DAYLIGHT
BEGIN:STANDARD
TZOFFSETFROM:+0200
TZOFFSETTO:+0100
TZNAME:CET
DTSTART:20251026T010000
END:STANDARD
BEGIN:DAYLIGHT
TZOFFSETFROM:+0100
TZOFFSETTO:+0200
TZNAME:CEST
DTSTART:20260329T010000
END:DAYLIGHT
BEGIN:STANDARD
TZOFFSETFROM:+0200
TZOFFSETTO:+0100
TZNAME:CET
DTSTART:20261025T010000
END:STANDARD
END:VTIMEZONE
BEGIN:VEVENT
DTSTART;VALUE=DATE:20250611
DTEND;VALUE=DATE:20250622
DTSTAMP:20260426T012959
CREATED:20250706T203837Z
LAST-MODIFIED:20250706T203837Z
UID:121373-1749600000-1750550399@actu.art
SUMMARY:Exposition : Résonances
DESCRIPTION:Exposition de peintures : « Résonances » par Anne-Marie Cortès-Hanrot\, artiste peintre à la galerie Padma.
URL:https://actu.art/event/exposition-resonances/
LOCATION:Galerie Padma\, 5 Rue Armand Fallières\, Nérac\, Lot-et-Garonne\, 47600\, France
CATEGORIES:Expositions Galeries
ATTACH;FMTTYPE=image/jpeg:https://actu.art/wp-content/uploads/2025/06/Exposition_Resonances.jpg
GEO:44.1359345;0.3395224
X-APPLE-STRUCTURED-LOCATION;VALUE=URI;X-ADDRESS=Galerie Padma 5 Rue Armand Fallières Nérac Lot-et-Garonne 47600 France;X-APPLE-RADIUS=500;X-TITLE=5 Rue Armand Fallières:geo:0.3395224,44.1359345
END:VEVENT
END:VCALENDAR