BEGIN:VCALENDAR
VERSION:2.0
PRODID:-//Actu.Art - ECPv6.15.13//NONSGML v1.0//EN
CALSCALE:GREGORIAN
METHOD:PUBLISH
X-WR-CALNAME:Actu.Art
X-ORIGINAL-URL:https://actu.art
X-WR-CALDESC:Évènements pour Actu.Art
BEGIN:VTIMEZONE
TZID:Europe/Paris
BEGIN:DAYLIGHT
TZOFFSETFROM:+0100
TZOFFSETTO:+0200
TZNAME:CEST
DTSTART:20240331T010000
END:DAYLIGHT
BEGIN:STANDARD
TZOFFSETFROM:+0200
TZOFFSETTO:+0100
TZNAME:CET
DTSTART:20241027T010000
END:STANDARD
BEGIN:DAYLIGHT
TZOFFSETFROM:+0100
TZOFFSETTO:+0200
TZNAME:CEST
DTSTART:20250330T010000
END:DAYLIGHT
BEGIN:STANDARD
TZOFFSETFROM:+0200
TZOFFSETTO:+0100
TZNAME:CET
DTSTART:20251026T010000
END:STANDARD
BEGIN:DAYLIGHT
TZOFFSETFROM:+0100
TZOFFSETTO:+0200
TZNAME:CEST
DTSTART:20260329T010000
END:DAYLIGHT
BEGIN:STANDARD
TZOFFSETFROM:+0200
TZOFFSETTO:+0100
TZNAME:CET
DTSTART:20261025T010000
END:STANDARD
END:VTIMEZONE
BEGIN:VEVENT
DTSTART;TZID=Europe/Paris:20250502T110000
DTEND;TZID=Europe/Paris:20250629T190000
DTSTAMP:20260420T115459
CREATED:20250416T203726Z
LAST-MODIFIED:20250416T203726Z
UID:115009-1746183600-1751223600@actu.art
SUMMARY:Exposition Rencontres Brésil - France
DESCRIPTION:La Tannerie Regard Parole proposera du 2 mai au 29 juin une exposition avec des œuvres de Bruno Schmidt et Roberto Barciela\, peintres vivant au Brésil\, et de Guillermo Krasnopolsky et Norma Pedroche\, peintres latino-américains membres de Regard Parole\, vivant en France. Vernissage 4 mai à 11h
URL:https://actu.art/event/exposition-rencontres-bresil-france/
LOCATION:La Tannerie\, 57\, rue de Paris\, Houdan\, Yvelines\, 78550\, France
CATEGORIES:Expositions
ATTACH;FMTTYPE=image/jpeg:https://actu.art/wp-content/uploads/2025/04/Exposition_Rencontres_Bresil_France.jpg
GEO:48.7913055;1.5999565
X-APPLE-STRUCTURED-LOCATION;VALUE=URI;X-ADDRESS=La Tannerie 57 rue de Paris Houdan Yvelines 78550 France;X-APPLE-RADIUS=500;X-TITLE=57\, rue de Paris:geo:1.5999565,48.7913055
END:VEVENT
END:VCALENDAR