BEGIN:VCALENDAR
VERSION:2.0
PRODID:-//Actu.Art - ECPv6.15.13//NONSGML v1.0//EN
CALSCALE:GREGORIAN
METHOD:PUBLISH
X-WR-CALNAME:Actu.Art
X-ORIGINAL-URL:https://actu.art
X-WR-CALDESC:Évènements pour Actu.Art
BEGIN:VTIMEZONE
TZID:Europe/Paris
BEGIN:DAYLIGHT
TZOFFSETFROM:+0100
TZOFFSETTO:+0200
TZNAME:CEST
DTSTART:20240331T010000
END:DAYLIGHT
BEGIN:STANDARD
TZOFFSETFROM:+0200
TZOFFSETTO:+0100
TZNAME:CET
DTSTART:20241027T010000
END:STANDARD
BEGIN:DAYLIGHT
TZOFFSETFROM:+0100
TZOFFSETTO:+0200
TZNAME:CEST
DTSTART:20250330T010000
END:DAYLIGHT
BEGIN:STANDARD
TZOFFSETFROM:+0200
TZOFFSETTO:+0100
TZNAME:CET
DTSTART:20251026T010000
END:STANDARD
BEGIN:DAYLIGHT
TZOFFSETFROM:+0100
TZOFFSETTO:+0200
TZNAME:CEST
DTSTART:20260329T010000
END:DAYLIGHT
BEGIN:STANDARD
TZOFFSETFROM:+0200
TZOFFSETTO:+0100
TZNAME:CET
DTSTART:20261025T010000
END:STANDARD
END:VTIMEZONE
BEGIN:VEVENT
DTSTART;TZID=Europe/Paris:20250428T100000
DTEND;TZID=Europe/Paris:20250511T180000
DTSTAMP:20260425T000147
CREATED:20250506T193046Z
LAST-MODIFIED:20250506T193046Z
UID:117016-1745834400-1746986400@actu.art
SUMMARY:Exposition regards de Geneviève Perollier et Laurence Burdin
DESCRIPTION:Cette exposition a pour but d’explorer la profondeur et la diversité des regards principalement à travers l’art du portrait et de la matière à travers la création d’oeuvres en dentelle de carton.
URL:https://actu.art/event/exposition-regards-de-genevieve-perollier-et-laurence-burdin/
LOCATION:Salle d’honneur de l’hôtel de ville\, Place Emile Loubet\, Montélimar\, Drôme\, 26200\, France
CATEGORIES:Expositions
ATTACH;FMTTYPE=image/jpeg:https://actu.art/wp-content/uploads/2025/05/Exposition_regards_de_Genevieve_Perollier_et_Laurence_Burdin.jpg
GEO:44.5570987;4.749422
X-APPLE-STRUCTURED-LOCATION;VALUE=URI;X-ADDRESS=Salle d’honneur de l’hôtel de ville Place Emile Loubet Montélimar Drôme 26200 France;X-APPLE-RADIUS=500;X-TITLE=Place Emile Loubet:geo:4.749422,44.5570987
END:VEVENT
END:VCALENDAR